BEGIN:VCALENDAR
PRODID:NingEventWidget-v1
VERSION:2.0
METHOD:PUBLISH
BEGIN:VEVENT
UID:1791588:Event:185053
DTSTAMP:20260420T135623Z
SUMMARY:Enriching Your Professional Tech Knowledge (Live Event)
DESCRIPTION:Course Topics:\n\nTBA\n\n\nFor more information visit http
 s://community.radrounds.com/events/enriching-your-professional-tech-kn
 owledge-live-event-2
DTSTART:20191109T130000Z
DTEND:20191109T211500Z
CATEGORIES:live, event
LOCATION:JPS Health Network (John Peter Smith Hospital)
WEBSITE:http://store.aheconline.com
URL:http://store.aheconline.com
CONTACT:800-239-1361
ORGANIZER;CN="Larry Carney":https://community.radrounds.com/profile/La
 rryCarney
ATTACH;FMTTYPE="image/jpeg":
ATTENDEE;ROLE=REQ-PARTICIPANT;PARTSTAT=ACCEPTED;RSVP=TRUE;CN="Larry Ca
 rney":https://community.radrounds.com/profile/LarryCarney
END:VEVENT
END:VCALENDAR
