BEGIN:VCALENDAR
PRODID:NingEventWidget-v1
VERSION:2.0
METHOD:PUBLISH
BEGIN:VEVENT
UID:1791588:Event:153940
DTSTAMP:20260421T045105Z
SUMMARY:Endovaginal Ultrasound of the Ovaries
DESCRIPTION:Endovaginal ultrasound can be performed quickly to help es
 tablish a diagnosis, providing additional information for women experi
 encing irregular bleeding, pain, and menopausal symptoms. You will lea
 rn normal female anatomy of the ovariesas demonstrated with the endova
 ginal probe.\nCourse Topics\n\nOrientation and Protocols according to 
 AIUM guidelines\nAnatomy and Normal Variants\nOvarian Pathology\n\n\nF
 or more information visit https://community.radrounds.com/events/endov
 aginal-ultrasound-of-the-ovaries
DTSTART:20140327T221500Z
DTEND:20140327T231500Z
CATEGORIES:live, webinar, ce, credit, "course:", radiology
LOCATION:Advanced Health Education Center
WEBSITE:https://store2.aheconline.com/index.php?route=product/product&
 path=59&product_id=1279
URL:https://store2.aheconline.com/index.php?route=product/product&path
 =59&product_id=1279
CONTACT:713-772-0155
ORGANIZER;CN="Larry Carney":https://community.radrounds.com/profile/La
 rryCarney
ATTACH;FMTTYPE="image/jpeg":
ATTENDEE;ROLE=REQ-PARTICIPANT;PARTSTAT=ACCEPTED;RSVP=TRUE;CN="Larry Ca
 rney":https://community.radrounds.com/profile/LarryCarney
END:VEVENT
END:VCALENDAR
