BEGIN:VCALENDAR
PRODID:NingEventWidget-v1
VERSION:2.0
METHOD:PUBLISH
BEGIN:VEVENT
UID:1791588:Event:158198
DTSTAMP:20260420T105804Z
SUMMARY:Endovaginal Ultrasound
DESCRIPTION:Endovaginal ultrasound can be performed quickly to help es
 tablish a diagnosis, providing additional information for women experi
 encing irregular bleeding, pain, and menopausal symptoms. This one day
  course will familiarize you with the techniques needed to obtain diag
 nostic images while helping you with the hand-eye coordination necessa
 ry to perform and interpret the endovaginal scan. Supervised scanning 
 on live models will boost your confidence in recognizing pelvic anatom
 y and improve your scanning skills. The addition of Doppler to the stu
 dy will aid in the diagnosis of pelvic pathology.\nScan With the Exper
 ts\nSometimes it takes an additional day or two of scanning to generat
 e confidence in your new skill set.  If you would like to add a day o
 r two, all our ultrasound skills courses can be scheduled with additio
 nal scan days in our state of the art interactive scan lab.  Give us 
 a call and discuss your needs with our faculty so we can help you achi
 eve your goals.\nObjectives\nAt the completion of this course, the lea
 rner will be able to:\n\nSuccessfully complete an endovaginal pelvic u
 ltrasound examinations and procedure protocols according to AIUM guide
 lines\nIdentify and display appropriate normal anatomy and orientation
 \nDemonstrate techniques for transducer cleaning and infection control
 \nUse Doppler ultrasound as an adjunct imaging method when appropriate
  in a gynecological exam\n\nCourse Topics\n\nPhysics and Instrumentati
 on\nOrientation and Protocols according to AIUM guidelines\nAnatomy an
 d Normal Variants\nOvarian, uterine, and tubal pathology evaluation\nE
 ctopic Pregnancy\nSonohysterography\nDoppler Studies - Spectral and co
 lor Doppler screening of pelvic or ovarian masses\nCase Studies and An
 alysis\nHands-on Scan Lab\n\nTarget Audience\nPhysicians, sonographers
 , PA’s, nurse practitioners, midwives and other medical professional
 s using ultrasound to aid in the diagnosis of the GYN patient. Physici
 ans can include but are not limited to the specialties of OB/GYN, fami
 ly medicine, emergency medicine or radiology.\nCME Credit\n\n“The Ad
 vanced Health Education Center, Ltd. is accredited by the Accreditatio
 n Council for Continuing Medical Education to provide continuing medic
 al education for physicians.”\n“The Advanced Health Education Cent
 er, Ltd. designates this educational activity for a maximum of 8 hours
  AMA PRA Category I™. Physician should claim credit commensurate wit
 h the extent of their participation in the activity.”\n“The Societ
 y of Diagnostic Medical Sonographers allows 8 hours CE Credit.”\n\nF
 aculty: Debbie Robertson, BS, RDMS\n                Sha
 ron Svehla, RDMS\nFee: Includes lecture, scanning laboratory instructi
 on with models, and supplies for the classroom and laboratory.\n\nFor 
 more information visit https://community.radrounds.com/events/endovagi
 nal-ultrasound-3
DTSTART:20150829T120000Z
DTEND:20150829T210000Z
CATEGORIES:seminar
LOCATION:Advanced Health Education Center
WEBSITE:https://store.aheconline.com/index.php?route=product/product&f
 ilter_name=ENDOVAGINAL%20ULTRASOUND&product_id=1636
URL:https://store.aheconline.com/index.php?route=product/product&filte
 r_name=ENDOVAGINAL%20ULTRASOUND&product_id=1636
CONTACT:713-772-0157
ORGANIZER;CN="Larry Carney":https://community.radrounds.com/profile/La
 rryCarney
ATTACH;FMTTYPE="image/jpeg":
ATTENDEE;ROLE=REQ-PARTICIPANT;PARTSTAT=ACCEPTED;RSVP=TRUE;CN="Larry Ca
 rney":https://community.radrounds.com/profile/LarryCarney
END:VEVENT
END:VCALENDAR
