BEGIN:VCALENDAR
PRODID:NingEventWidget-v1
VERSION:2.0
METHOD:PUBLISH
BEGIN:VEVENT
UID:1791588:Event:193553
DTSTAMP:20260421T045106Z
SUMMARY:Emergency Radiology 2019: What You Need to Know to Get You Thr
 ough the Night
DESCRIPTION:18 AMA PRA Category 1 Credits\nf.k.a. the Emergency Radiol
 ogy Symposium from Baptist Health South Florida. Course Director: Myer
  H. Roszler, MD  Maintain optimal competence in the use of the most r
 eliable imaging modalities and best-practice strategies, even for unus
 ual conditions.\n \nRegister: https://mednax.cloud-cme.com/default.a
 spx?P=0&EID=187\n\nFor more information visit https://community.radrou
 nds.com/events/emergency-radiology-2019-what-you-need-to-know-to-get-y
 ou-through
DTSTART:20191106T180000Z
DTEND:20191109T170000Z
CATEGORIES:cme, conference
LOCATION:Boca Raton Resort and Club
WEBSITE:
URL:
CONTACT:
ORGANIZER:MEDNAX Radiology Education
ATTACH;FMTTYPE="image/jpeg":https://storage.ning.com/topology/rest/1.0
 /file/get/3553367209?profile=original
ATTENDEE;ROLE=REQ-PARTICIPANT;PARTSTAT=ACCEPTED;RSVP=TRUE;CN="Brian Sc
 hmidt":https://community.radrounds.com/profile/BrianSchmidt
END:VEVENT
END:VCALENDAR
