BEGIN:VCALENDAR
PRODID:NingEventWidget-v1
VERSION:2.0
METHOD:PUBLISH
BEGIN:VEVENT
UID:1791588:Event:170858
DTSTAMP:20260422T134326Z
SUMMARY:Emergency Radiology 2017
DESCRIPTION: Review a practical current approach to imaging of emerge
 ncy and trauma patients, from radiologists from the University of Was
 hington and Harborview Medical Center, the only Level I adult and 
 pediatric trauma center in a four-state region (Washington, Alaska, Mo
 ntana and Idaho).\nSpecial Guest faculty for 2017 will be Dr. Scott St
 eenburg from the University of Indiana. University of Washington facul
 ty to include Emergency Radiologists Rachael Edwards, Joel Gross, Kenn
 eth Linnau, Jeffrey Robinson, Claire Sandstrom and many others.\nEnjoy
  8 hours of daylight following the course each day, providing ample 
 opportunities  for sightseeing and enjoying the natural beauty of Sea
 ttle and the Puget Sound region. Summers in Seattle are sunny, with 
 long days, some of our dryest and warmest months, and temperatures ar
 ound 75 degrees.\nThis emergency radiology course is intended for prac
 ticing radiologists, physicians-in-training, and emergency medicine pr
 oviders. It is especially useful for radiologists practicing in traum
 a centers and emergency departments, and for those providing after hou
 rs emergency radiology coverage (eg: nighthawk type services). Althoug
 h the course is primarily targeted at physicians, it may also be helpf
 ul for CT technologists and others involved in emergency imaging.\n\nF
 or more information visit https://community.radrounds.com/events/emerg
 ency-radiology-2017
DTSTART:20170813T040000Z
DTEND:20170817T035900Z
CATEGORIES:radiology, cme, course
LOCATION:Harborview Medical Center
WEBSITE:http://rad.washington.edu/about-us/academic-sections/emergency
 -radiology/emergency-radiology-course/
URL:http://rad.washington.edu/about-us/academic-sections/emergency-rad
 iology/emergency-radiology-course/
CONTACT:206-799-1657
ORGANIZER;CN="Jeffrey Robinson":https://community.radrounds.com/profil
 e/JeffreyRobinson968
ATTACH;FMTTYPE="image/jpeg":http://storage.ning.com/topology/rest/1.0/
 file/get/1044771583?profile=original
ATTENDEE;ROLE=REQ-PARTICIPANT;PARTSTAT=ACCEPTED;RSVP=TRUE;CN="Jeffrey 
 Robinson":https://community.radrounds.com/profile/JeffreyRobinson968
END:VEVENT
END:VCALENDAR
