BEGIN:VCALENDAR
PRODID:NingEventWidget-v1
VERSION:2.0
METHOD:PUBLISH
BEGIN:VEVENT
UID:1791588:Event:158833
DTSTAMP:20260421T211024Z
SUMMARY:Emergency Medicine Ultrasound/ Point of Care Ultrasound
DESCRIPTION:The “Golden Hour” is one of the pillars of emergency m
 edicine. Capitalize on the speed and accuracy of ultrasound to take ad
 vantage of every minute. Having the skills to evaluate the abdomen (th
 e FAST procedure), first trimester pregnancy and cardiac ultrasound ma
 y make the difference between life and death!  Participants in this c
 ourse will benefit from “hands on scan labs” where you will practi
 ce the essential skills and techniques to acquire an ultrasound image 
 for quick and accurate diagnosis.\nAHEC has taught this course for phy
 sicians in the US, China, and South America. This two day course begin
 s both days with lecture where faculty will review the basics such as:
  ultrasound physics and instrumentation, anatomy, and procedures and p
 rotocols. Following lecture, participants will benefit from our on-sit
 e scanning lab with live models for extensive hands-on practice. The c
 ourse content is based on ACEP guidelines for the performance on Emerg
 ency Medicine Ultrasound.\n\nFor more information visit https://commun
 ity.radrounds.com/events/emergency-medicine-ultrasound-point-of-care-u
 ltrasound-3
DTSTART:20150130T050000Z
DTEND:20150201T045900Z
CATEGORIES:seminar
LOCATION:AHEC
WEBSITE:https://store.aheconline.com/index.php?route=product/product&f
 ilter_name=EMERGENCY%20MEDICINE%20ULTRASOUND%20POINT%20OF%20CARE%20ULT
 ARSOUND&product_id=1598
URL:https://store.aheconline.com/index.php?route=product/product&filte
 r_name=EMERGENCY%20MEDICINE%20ULTRASOUND%20POINT%20OF%20CARE%20ULTARSO
 UND&product_id=1598
CONTACT:713-772-0157
ORGANIZER;CN="Larry Carney":https://community.radrounds.com/profile/La
 rryCarney
ATTACH;FMTTYPE="image/jpeg":
ATTENDEE;ROLE=REQ-PARTICIPANT;PARTSTAT=ACCEPTED;RSVP=TRUE;CN="Larry Ca
 rney":https://community.radrounds.com/profile/LarryCarney
END:VEVENT
END:VCALENDAR
