BEGIN:VCALENDAR
PRODID:NingEventWidget-v1
VERSION:2.0
METHOD:PUBLISH
BEGIN:VEVENT
UID:1791588:Event:164788
DTSTAMP:20260420T053459Z
SUMMARY:Emergency Medicine/ Point of Care Ultrasound
DESCRIPTION:The “Golden Hour” is one of the pillars of emergency m
 edicine. Capitalize on the speed and accuracy of ultrasound to take ad
 vantage of every minute. Having the skills to evaluate the abdomen (th
 e FAST procedure), first trimester pregnancy and cardiac ultrasound ma
 y make the difference between life and death!  Participants in this c
 ourse will benefit from “hands on scan labs” where you will practi
 ce the essential skills and techniques to acquire an ultrasound image 
 for quick and accurate diagnosis.\nAHEC has taught this course for phy
 sicians in the US, China, and South America. This two day course begin
 s both days with lecture where faculty will review the basics such as:
  ultrasound physics and instrumentation, anatomy, and procedures and p
 rotocols. Following lecture, participants will benefit from our on-sit
 e scanning lab with live models for extensive hands-on practice. The c
 ourse content is based on ACEP guidelines for the performance on Emerg
 ency Medicine Ultrasound.\n\nFor more information visit https://commun
 ity.radrounds.com/events/emergency-medicine-point-of-care-ultrasound-4
DTSTART:20160725T120000Z
DTEND:20160726T200000Z
CATEGORIES:ultrasound, seminar
LOCATION:Advanced Health Education Center
WEBSITE:https://store.aheconline.com/index.php?route=product/product&p
 ath=59_83&product_id=2219
URL:https://store.aheconline.com/index.php?route=product/product&path=
 59_83&product_id=2219
CONTACT:1-800-239-1361
ORGANIZER;CN="Larry Carney":https://community.radrounds.com/profile/La
 rryCarney
ATTACH;FMTTYPE="image/jpeg":
ATTENDEE;ROLE=REQ-PARTICIPANT;PARTSTAT=ACCEPTED;RSVP=TRUE;CN="Larry Ca
 rney":https://community.radrounds.com/profile/LarryCarney
ATTENDEE;ROLE=REQ-PARTICIPANT;PARTSTAT=TENTATIVE;RSVP=TRUE;CN="Edward 
 Kendall":https://community.radrounds.com/profile/EdwardKendall
END:VEVENT
END:VCALENDAR
