BEGIN:VCALENDAR
PRODID:NingEventWidget-v1
VERSION:2.0
METHOD:PUBLISH
BEGIN:VEVENT
UID:1791588:Event:168126
DTSTAMP:20260420T084628Z
SUMMARY:Emergency Medicine/Point of Care Ultrasound
DESCRIPTION:Course Topics\n\nIntroduction to ultrasound physics and in
 strumentation\nAnatomy of the abdominal and retroperitoneal structures
 \nAbdominal scan protocols, image orientation, and pathology\nAbdomina
 l trauma, the FAST exam procedure\nCardiac 2D imaging in the ED\nEvalu
 ation of pericardial effusion\nOB/GYN ultrasound anatomy and procedure
 s\nFirst trimester pregnancy with endovaginal imaging\nEarly gestation
  and ectopic pregnancy\nUltrasound appearance of pathology in case stu
 dies\nFocused hands-on scan labs\n\n\nFor more information visit https
 ://community.radrounds.com/events/emergency-medicine-point-of-care-ult
 rasound-10
DTSTART:20160725T120000Z
DTEND:20160726T201500Z
CATEGORIES:live, event
LOCATION:Houston
WEBSITE:https://store.aheconline.com/index.php?route=product/product&p
 ath=59&product_id=2219
URL:https://store.aheconline.com/index.php?route=product/product&path=
 59&product_id=2219
CONTACT:18002391361
ORGANIZER;CN="Larry Carney":https://community.radrounds.com/profile/La
 rryCarney
ATTACH;FMTTYPE="image/jpeg":
ATTENDEE;ROLE=REQ-PARTICIPANT;PARTSTAT=ACCEPTED;RSVP=TRUE;CN="Larry Ca
 rney":https://community.radrounds.com/profile/LarryCarney
END:VEVENT
END:VCALENDAR
