BEGIN:VCALENDAR
PRODID:NingEventWidget-v1
VERSION:2.0
METHOD:PUBLISH
BEGIN:VEVENT
UID:1791588:Event:164908
DTSTAMP:20260420T180802Z
SUMMARY:Emergency & Critical Care Scanning Skills Workshop 2 Day
DESCRIPTION:The scanning skills workshop is taught by leading ultrasou
 nd experts. This ultrasound training program is designed to reinforce 
 and improve scanning skills for emergency medicine, critical care abdo
 minal and OB-GYN ultrasound applications. Scanning live models and ina
 nimate phantoms provides the perfect opportunity to improve scanning p
 roficiency. No lectures, just walk-in and scan, scan, scan!\n\nFor mor
 e information visit https://community.radrounds.com/events/emergency-c
 ritical-care-scanning-skills-workshop-2-day
DTSTART:20160730T040000Z
DTEND:20160801T035900Z
CATEGORIES:ultrasound, cme, seminar
LOCATION:Gulfcoast Ultrasound Institute, Inc.
WEBSITE:https://www.gcus.com/courses/about.asp?course=976/General-and-
 ER-CC-Scanning-Skills-Workshop
URL:https://www.gcus.com/courses/about.asp?course=976/General-and-ER-C
 C-Scanning-Skills-Workshop
CONTACT:800-619-1900
ORGANIZER;CN="Casey Green":https://community.radrounds.com/profile/Jam
 esSalame
ATTACH;FMTTYPE="image/jpeg":
ATTENDEE;ROLE=REQ-PARTICIPANT;PARTSTAT=ACCEPTED;RSVP=TRUE;CN="Casey Gr
 een":https://community.radrounds.com/profile/JamesSalame
END:VEVENT
END:VCALENDAR
