BEGIN:VCALENDAR
PRODID:NingEventWidget-v1
VERSION:2.0
METHOD:PUBLISH
BEGIN:VEVENT
UID:1791588:Event:164723
DTSTAMP:20260420T143352Z
SUMMARY:Emergency & Critical Care Scanning Skills Workshop 1 Day
DESCRIPTION:The scanning skills workshop is taught by leading ultrasou
 nd experts. This ultrasound training program is designed to reinforce 
 and improve scanning skills for emergency medicine, critical care abdo
 minal and OB-GYN ultrasound applications. Scanning live models and ina
 nimate phantoms provides the perfect opportunity to improve scanning p
 roficiency. No lectures, just walk-in and scan, scan, scan! Prerequis
 ites: Participants must have attended a previous GCUS live or online 
 Emergency Medicine, Critical Care, abdominal or OB-GYN course to atten
 d a scan only workshop. Participants must select the desired track ( E
 M, CCU, Abdominal or OB-GYN) at time of registration.\n\nFor more info
 rmation visit https://community.radrounds.com/events/emergency-critica
 l-care-scanning-skills-workshop-1-day
DTSTART:20160730T040000Z
DTEND:20160731T035900Z
CATEGORIES:ultrasound, cme, seminar
LOCATION:Gulfcoast Ultrasound Institute, Inc.
WEBSITE:https://www.gcus.com/courses/about.asp?course=977/General-and-
 ER-CC-Scanning-Skills-Workshop
URL:https://www.gcus.com/courses/about.asp?course=977/General-and-ER-C
 C-Scanning-Skills-Workshop
CONTACT:800-619-1900
ORGANIZER;CN="Casey Green":https://community.radrounds.com/profile/Jam
 esSalame
ATTACH;FMTTYPE="image/jpeg":
ATTENDEE;ROLE=REQ-PARTICIPANT;PARTSTAT=ACCEPTED;RSVP=TRUE;CN="Casey Gr
 een":https://community.radrounds.com/profile/JamesSalame
END:VEVENT
END:VCALENDAR
