BEGIN:VCALENDAR
PRODID:NingEventWidget-v1
VERSION:2.0
METHOD:PUBLISH
BEGIN:VEVENT
UID:1791588:Event:117725
DTSTAMP:20260423T000658Z
SUMMARY:Echocardiography/Cardiac Doppler
DESCRIPTION:Echocardiography/Cardiac Doppler Monday, May 14, 2012 - Mo
 nday, May 21, 2012Advanced Health Education Center Houston, Texas (TX)
 , United StatesProvided by Advanced Health Education Center  CME Provi
 der: Advanced Health Education Center 8502 Tybor DriveHouston, Texas (
 TX) 77074United States\nToll Free: (800) 239-1361Phone: (713) 772-0157
 Fax: (713) 772-0155\n\nConference Center:Advanced Health Education Cen
 ter 8502 Tybor DriveHouston, Texas (TX) 77074United States\nPhone: (80
 0) 239-1361\nDescription:Echocardiography has come a long way from its
  humble beginnings. The addition of M-Mode, two dimensional real time 
 imaging, Doppler, color flow, and now three and four dimensional imagi
 ng have all changed the way echocardiography is practiced. Diastolic a
 ssessment and changes in nomenclature have even changed the language o
 f Echo. This eight day course covers echo from M-mode to 3-D. After co
 mpletion you will be confident in choosing the proper tools to assess 
 common pathological conditions such as valvular abnormalities, systoli
 c, and diastolic function. Development of a consistent protocol is man
 datory to avoid missing pathology and our scan lab with state of the a
 rt equipment and low student instructor ratios will give you the time 
 and opportunity to practice, practice, practice.\n\nTarget Audience Ph
 ysicians who want to learn basic echocardiography procedure skills and
  entry level interpretation. Sonographers or other health professional
 s learning to perform adult echocardiography procedures.\nCME Credit 
 The Advanced Health Education Center is accredited by the Accreditat
 ion Council for Continuing Medical Education to provide continuing med
 ical education for physicians. “The Advanced Health Education Center
  designates this educational activity for a maximum of 64 hours AMA PR
 A Category I™. Physician should claim credit commensurate with the e
 xtent of their participation in the activity.” “The Society of Dia
 gnostic Medical Sonographers allows 48 Hours CE Credit.”\nSelf Asses
 sment Module (SAM): No\nInstructors:Thomas Whelan, IIIRT(R),RDMS,RDCS,
 RVT,FASE\nSpecialty Audience:Radiology\n\nFor more information visit h
 ttps://community.radrounds.com/events/echocardiography-cardiac-doppler
DTSTART:20120514T040000Z
DTEND:20120522T035900Z
CATEGORIES:radiology
LOCATION:Advanced Health Education Center
WEBSITE:http://aheconline.com/
URL:http://aheconline.com/
CONTACT:(800) 239-1361
ORGANIZER:Advanced Health Education Center
ATTACH;FMTTYPE="image/jpeg":
ATTENDEE;ROLE=REQ-PARTICIPANT;PARTSTAT=ACCEPTED;RSVP=TRUE;CN="radRound
 s Radiology Events":https://community.radrounds.com/profile/radRoundsR
 adiologyEvents
END:VEVENT
END:VCALENDAR
