BEGIN:VCALENDAR
PRODID:NingEventWidget-v1
VERSION:2.0
METHOD:PUBLISH
BEGIN:VEVENT
UID:1791588:Event:165101
DTSTAMP:20260420T202840Z
SUMMARY:Echocardiography Cardiac Doppler Ultrasound
DESCRIPTION:Echocardiography has come a long way from its humble begin
 nings. The addition of M-Mode, two dimensional real time imaging, Dopp
 ler, color flow, and now three and four dimensional imaging have all c
 hanged the way echocardiography is practiced. Diastolic assessment and
  changes in nomenclature have even changed the language of Echo. This 
 course covers echo from M-mode to 3-D. After completion you will be co
 nfident in choosing the proper tools to assess common pathological con
 ditions such as valvular abnormalities, systolic, and diastolic functi
 on. Development of a consistent protocol is mandatory to avoid missing
  pathology and our scan lab with state of the art equipment and low st
 udent instructor ratios will give you the time and opportunity to prac
 tice, practice, practice.\n\nFor more information visit https://commun
 ity.radrounds.com/events/echocardiography-cardiac-doppler-ultrasound-9
DTSTART:20160711T120000Z
DTEND:20160716T200000Z
CATEGORIES:ultrasound, seminar
LOCATION:Advanced Health Education Center
WEBSITE:https://store.aheconline.com/index.php?route=product/product&p
 ath=59_83&product_id=2216
URL:https://store.aheconline.com/index.php?route=product/product&path=
 59_83&product_id=2216
CONTACT:1-800-239-1361
ORGANIZER;CN="Larry Carney":https://community.radrounds.com/profile/La
 rryCarney
ATTACH;FMTTYPE="image/jpeg":
ATTENDEE;ROLE=REQ-PARTICIPANT;PARTSTAT=ACCEPTED;RSVP=TRUE;CN="Larry Ca
 rney":https://community.radrounds.com/profile/LarryCarney
END:VEVENT
END:VCALENDAR
