BEGIN:VCALENDAR
PRODID:NingEventWidget-v1
VERSION:2.0
METHOD:PUBLISH
BEGIN:VEVENT
UID:1791588:Event:158587
DTSTAMP:20260421T044900Z
SUMMARY:Echocardiography Cardiac Doppler Ultrasound
DESCRIPTION:Echocardiography has come a long way from its humble begin
 nings. The addition of M-Mode, two dimensional real time imaging, Dopp
 ler, color flow, and now three and four dimensional imaging have all c
 hanged the way echocardiography is practiced. Diastolic assessment and
  changes in nomenclature have even changed the language of Echo. This 
 course covers echo from M-mode to 3-D. After completion you will be co
 nfident in choosing the proper tools to assess common pathological con
 ditions such as valvular abnormalities, systolic, and diastolic functi
 on. Development of a consistent protocol is mandatory to avoid missing
  pathology and our scan lab with state of the art equipment and low st
 udent instructor ratios will give you the time and opportunity to prac
 tice, practice, practice.\n\nFor more information visit https://commun
 ity.radrounds.com/events/echocardiography-cardiac-doppler-ultrasound-7
DTSTART:20150511T040000Z
DTEND:20150517T035900Z
CATEGORIES:seminar
LOCATION:AHEC
WEBSITE:https://store.aheconline.com/index.php?route=product/product&f
 ilter_name=ECHOCARDIOGRAPHY%20CARDIAC%20DOPPLER%20ULTRASOUND&product_i
 d=1593
URL:https://store.aheconline.com/index.php?route=product/product&filte
 r_name=ECHOCARDIOGRAPHY%20CARDIAC%20DOPPLER%20ULTRASOUND&product_id=15
 93
CONTACT:713-772-0157
ORGANIZER;CN="Larry Carney":https://community.radrounds.com/profile/La
 rryCarney
ATTACH;FMTTYPE="image/jpeg":
END:VEVENT
END:VCALENDAR
