BEGIN:VCALENDAR
PRODID:NingEventWidget-v1
VERSION:2.0
METHOD:PUBLISH
BEGIN:VEVENT
UID:1791588:Event:115417
DTSTAMP:20260420T035922Z
SUMMARY:Duke Radiology Review Course - Mammograms to MRI:  Breast Imag
 ing & Interventions
DESCRIPTION:A comprehensive review and update of both established brea
 st imaging modalities along with advances in state-of-the-art techniqu
 es. \n\nFor more information visit https://community.radrounds.com/ev
 ents/duke-radiology-review-course-mammograms-to-mri-breast-imaging-int
DTSTART:20120624T040000Z
DTEND:20120628T035900Z
CATEGORIES:duke, radiology, review, course
LOCATION:Kiawah Island Resort, South Carolina
WEBSITE:http://radiology.duke.edu
URL:http://radiology.duke.edu
CONTACT:
ORGANIZER:Duke Radiology
ATTACH;FMTTYPE="image/jpeg":
ATTENDEE;ROLE=REQ-PARTICIPANT;PARTSTAT=ACCEPTED;RSVP=TRUE;CN="Member S
 ervices":https://community.radrounds.com/profile/MemberServices
END:VEVENT
END:VCALENDAR
