BEGIN:VCALENDAR
PRODID:NingEventWidget-v1
VERSION:2.0
METHOD:PUBLISH
BEGIN:VEVENT
UID:1791588:Event:115321
DTSTAMP:20260425T115232Z
SUMMARY:Duke Radiology CME: A Comprehensive Review of Musculoskeletal 
 MRI
DESCRIPTION:An intensive review and update of musculoskeletal MR imagi
 ng techniques and procedures focusing on the knee, shoulder, spine, fo
 ot and ankle. The design and implementation of musculoskeletal imaging
  protocols will also be addressed in this comprehensive course designe
 d for the practicing radiologist.\n\nFor more information visit https:
 //community.radrounds.com/events/duke-radiology-cme-a-comprehensive-re
 view-of-musculoskeletal-mri
DTSTART:20120114T230000Z
DTEND:20120115T000000Z
CATEGORIES:duke, radiology, review, course, cme
LOCATION:Hyatt Regency Maui Resort and Spa Maui, Hawaii
WEBSITE:http://radiology.duke.edu
URL:http://radiology.duke.edu
CONTACT:
ORGANIZER:Duke CME
ATTACH;FMTTYPE="image/jpeg":
ATTENDEE;ROLE=REQ-PARTICIPANT;PARTSTAT=ACCEPTED;RSVP=TRUE;CN="Member S
 ervices":https://community.radrounds.com/profile/MemberServices
END:VEVENT
END:VCALENDAR
