BEGIN:VCALENDAR
PRODID:NingEventWidget-v1
VERSION:2.0
METHOD:PUBLISH
BEGIN:VEVENT
UID:1791588:Event:115740
DTSTAMP:20260424T213731Z
SUMMARY:Dual Energy/Ultra-Low-Dose CT Symposium
DESCRIPTION:Dual Energy/Ultra-Low-Dose CT Symposium Saturday, February
  11, 2012 - Sunday, February 12, 2012Sanibel Harbour Marriott Resort &
  Spa Fort Myers, Florida (FL), United StatesProvided by Society of Com
 puted Body Tomography and Magnetic Resonance (SCBT-MR)  CME Provider: 
 Society of Computed Body Tomography and Magnetic Resonance (SCBT-MR) 1
 891 Preston White DriveReston, Virginia (VA) 20191United States\nPhone
 : (703) 476-1117\n\nConference Center:Sanibel Harbour Marriott Resort 
 & Spa 17260 Harbour Pointe DriveFort Myers, Florida (FL) 33908United S
 tates\nToll Free: (800) 767-7777Phone: (239) 466-4000\nDescription:Ple
 ase visit the Society of Computed Body Tomography and Magnetic Resonan
 ce (SCBT-MR) website for more information.\nSelf Assessment Module (SA
 M): No\nInstructors:William Shuman, MDJames Brink, MDDesiree Morgan, M
 DMarilyn Siegel, MDDushyant Sahani, MD U. Joseph Schoepf, MDErik Pauls
 on, MDW. Dennis Foley, MDDaniel Boll, MD\nSpecialty Audience:Radiology
 \n\nFor more information visit https://community.radrounds.com/events/
 dual-energy-ultra-low-dose-ct-symposium
DTSTART:20120211T050000Z
DTEND:20120213T045900Z
CATEGORIES:radiology
LOCATION:Sanibel Harbour Marriott Resort & Spa
WEBSITE:http://www.sanibel-resort.com/
URL:http://www.sanibel-resort.com/
CONTACT:(239) 466-4000
ORGANIZER:Society of Computed Body Tomography and Magnetic Resonance (
 SCBT-MR)
ATTACH;FMTTYPE="image/jpeg":
ATTENDEE;ROLE=REQ-PARTICIPANT;PARTSTAT=ACCEPTED;RSVP=TRUE;CN="radRound
 s Radiology Events":https://community.radrounds.com/profile/radRoundsR
 adiologyEvents
END:VEVENT
END:VCALENDAR
