BEGIN:VCALENDAR
PRODID:NingEventWidget-v1
VERSION:2.0
METHOD:PUBLISH
BEGIN:VEVENT
UID:1791588:Event:168108
DTSTAMP:20260420T115948Z
SUMMARY:Digital Radiography and Fluoroscopic Radiation Safety for the 
 Certified Radiologic Technologist
DESCRIPTION:Course Topics\nFluoroscopy Review\n\nVisual Physiology\nIm
 age Intensifiers & Flat Panel Detectors\nImage Quality\nGains\nAutomat
 ic Brightness Stabilizers\nRecording Systems\nFluoroscopy Options\nThe
  Fluoroscopy Exam\nPediatric Fluoroscopy\nBiologic Effects\nQC Regulat
 ions\n\nDigital Radiography\n\nIntroduction to Digital Imaging – CR/
 DR\nPhysics of Digital Imaging\nDR & CR Image Capture, Extraction, and
  Processing\nImage Evaluation\nTroubleshooting Acquisition Errors\nArt
 ifacts in Digital Imaging\n\n\nFor more information visit https://comm
 unity.radrounds.com/events/digital-radiography-and-fluoroscopic-radiat
 ion-safety-for-the-7
DTSTART:20160512T120000Z
DTEND:20160512T201500Z
CATEGORIES:live, event
LOCATION:San Francisco
WEBSITE:https://store.aheconline.com/index.php?route=product/product&p
 ath=59&product_id=2553
URL:https://store.aheconline.com/index.php?route=product/product&path=
 59&product_id=2553
CONTACT:1-800-239-1361
ORGANIZER;CN="Larry Carney":https://community.radrounds.com/profile/La
 rryCarney
ATTACH;FMTTYPE="image/jpeg":
ATTENDEE;ROLE=REQ-PARTICIPANT;PARTSTAT=ACCEPTED;RSVP=TRUE;CN="Larry Ca
 rney":https://community.radrounds.com/profile/LarryCarney
END:VEVENT
END:VCALENDAR
