BEGIN:VCALENDAR
PRODID:NingEventWidget-v1
VERSION:2.0
METHOD:PUBLISH
BEGIN:VEVENT
UID:1791588:Event:115601
DTSTAMP:20260425T064423Z
SUMMARY:Digital Mammography: New Game, New Rules
DESCRIPTION:Digital Mammography: New Game, New Rules Monday, January 2
 3, 2012 - Monday, January 23, 2012Advanced Health Education Center Hou
 ston, Texas (TX), United StatesProvided by Advanced Health Education C
 enter  CME Provider: Advanced Health Education Center 8502 Tybor Drive
 Houston, Texas (TX) 77074United States\nToll Free: (800) 239-1361Phone
 : (713) 772-0157Fax: (713) 772-0155\n\nConference Center:Advanced Heal
 th Education Center 8502 Tybor DriveHouston, Texas (TX) 77074United St
 ates\nPhone: (800) 239-1361\n Description:New Game – New Rules! Join
  us to learn not only how to play the game but excel at it! Film scree
 n mammography has been the standard, but digital is here!\nFull field 
 digital mammography (FFDM) continues to replace film screen mammograph
 y around the country. This technology is versa-tile and has the abilit
 y to gather more information than ever before. The technology has evol
 ved so rapidly we are now on the third and fourth generation digital m
 ammography units. If you really want to understand digital imaging tec
 hnology and the difference between DDM and CRM this is the class for y
 ou. The transition from analog to digital mammography is exciting and 
 requires the knowledge and understanding of more than just how to oper
 ate the unit. Post processing techniques, tomosynthesis, contrast subt
 raction, CAD and many more tools are available to help detect breast c
 ancers. Join us to see the use of digital imaging in mammography and g
 ain the understanding of digital imaging and digital mammography quali
 ty control.\nSelf Assessment Module (SAM): No\nInstructors:Susan Sprin
 kle-Vincent, AAS, RT(R)(M)\nSpecialty Audience:Radiology\n\nFor more i
 nformation visit https://community.radrounds.com/events/digital-mammog
 raphy-new-game-new-rules
DTSTART:20120123T050000Z
DTEND:20120124T045900Z
CATEGORIES:radiology
LOCATION:Advanced Health Education Center
WEBSITE:http://aheconline.com/
URL:http://aheconline.com/
CONTACT:(800) 239-1361
ORGANIZER:Advanced Health Education Center
ATTACH;FMTTYPE="image/jpeg":
ATTENDEE;ROLE=REQ-PARTICIPANT;PARTSTAT=ACCEPTED;RSVP=TRUE;CN="radRound
 s Radiology Events":https://community.radrounds.com/profile/radRoundsR
 adiologyEvents
END:VEVENT
END:VCALENDAR
