BEGIN:VCALENDAR
PRODID:NingEventWidget-v1
VERSION:2.0
METHOD:PUBLISH
BEGIN:VEVENT
UID:1791588:Event:116442
DTSTAMP:20260422T113803Z
SUMMARY:Digital Mammography - New Game, New Rules
DESCRIPTION:Digital Mammography - New Game, New Rules Monday, May 07, 
 2012 - Monday, May 07, 2012Advanced Health Education Center Houston, T
 exas (TX), United StatesProvided by Advanced Health Education Center  
 CME Provider: Advanced Health Education Center 8502 Tybor DriveHouston
 , Texas (TX) 77074United States\nToll Free: (800) 239-1361Phone: (713)
  772-0157Fax: (713) 772-0155\n\nConference Center:Advanced Health Educ
 ation Center 8502 Tybor DriveHouston, Texas (TX) 77074United States\nP
 hone: (800) 239-1361\n Description:New Game â€“ New Rules! Join us to 
 learn not only how to play the game but excel at it! Film screen mammo
 graphy has been the standard, but digital is here!\nFull field digital
  mammography (FFDM) continues to replace film screen mammography aroun
 d the country. This technology is versa-tile and has the ability to ga
 ther more information than ever before. The technology has evolved so 
 rapidly we are now on the third and fourth generation digital mammogra
 phy units. If you really want to understand digital imaging technology
  and the difference between DDM and CRM this is the class for you. The
  transition from analog to digital mammography is exciting and require
 s the knowledge and understanding of more than just how to operate the
  unit. Post processing techniques, tomosynthesis, contrast subtraction
 , CAD and many more tools are available to help detect breast cancers.
  Join us to see the use of digital imaging in mammography and gain the
  understanding of digital imaging and digital mammography quality cont
 rol.\nCourse Topics\nIntroductionâ€˘ History / A Blast from the Pastâ€
 ˘ Previous Modalitiesâ€˘ Complementary Modalitiesâ€˘ Look How Far We H
 ave Come!\nTerminology and Physicsâ€˘ New Terminology for Analog Mammo
 graphersâ€˘ The Digital Mammography Unitâ€˘ The Similarities; the Diff
 erencesâ€˘ Detector Technologiesâ€˘ Image Acquisitionâ€˘ DDM Vs CRM\nP
 ositioning and the Technique Chartâ€˘ Detector Size and Positioning St
 rategies â€˘ Magnification â€˘ Image Critique/Positioning Standardsâ€˘
  AEC/Gridsâ€˘ Technical Factors\nImage Acquisition, Image Review and I
 mage Optimizationâ€˘ Acquisition Workstationâ€˘ Review Workstationâ€˘ 
 Image Processing\nQuality Controlâ€˘ Phantom Image Quality Controlâ€˘ 
 MTF Measurement â€˘ System Resolutionâ€˘ SNR/CNRâ€˘ Display Device Cal
 ibration Checkâ€˘ Flat Fieldâ€˘ Repeat Analysis/Visual/Compression/Pri
 nter\nAdvanced Applicationsâ€˘ CADâ€˘ Digital Subtraction Angiographyâ
 €˘ Tomosynthesisâ€˘ Contrast Medium Mammographyâ€˘ Telemammography and
  Teleconsultations\nPathologyâ€˘ Case Studies\nSelf Assessment Module 
 (SAM): No\nInstructors:Susan Sprinkle-Vincent, AAS, RT(R)(M)\nSpecialt
 y Audience:Radiology\n\nFor more information visit https://community.r
 adrounds.com/events/digital-mammography-new-game-new-rules-1
DTSTART:20120507T040000Z
DTEND:20120508T035900Z
CATEGORIES:radiology
LOCATION:Advanced Health Education Center
WEBSITE:http://aheconline.com/
URL:http://aheconline.com/
CONTACT:(800) 239-1361
ORGANIZER:Advanced Health Education Center
ATTACH;FMTTYPE="image/jpeg":
ATTENDEE;ROLE=REQ-PARTICIPANT;PARTSTAT=ACCEPTED;RSVP=TRUE;CN="radRound
 s Radiology Events":https://community.radrounds.com/profile/radRoundsR
 adiologyEvents
END:VEVENT
END:VCALENDAR
