BEGIN:VCALENDAR
PRODID:NingEventWidget-v1
VERSION:2.0
METHOD:PUBLISH
BEGIN:VEVENT
UID:1791588:Event:58193
DTSTAMP:20260421T043936Z
SUMMARY:Digital Mammography - New Game, New Rules
DESCRIPTION:Digital Mammography - New Game, New Rules\nMonday, April 2
 6, 2010\nHouston, TX\n\nMEETING SPONSOR:\nAdvanced Health Education Ce
 nter\n8502 Tybor St.\nHouston, TX 77074\nToll-Free 1-800-239-1361\n713
 -772-0157\nWebsite: http://www.aheconline.com\n\nCONFERENCE CENTER:\nA
 dvanced Health Education Center\n8502 Tybor Dr.\nHouston, TX 77074\nTo
 ll-Free 1-800-239-1361\n713-772-0157\nWebsite: http://www.aheconline.c
 om\n\nMEETING BROCHURE:\nTo view and print the meeting brochure, click
  here:\nhttp://store.aheconline.com/DisplayDetail.aspx?pid=4483\n\nMEE
 TING DESCRIPTION:\nDigital Mammography - New Game, New Rules! New Game
  â€“ New Rules! Join us to learn not only how to play the game but exc
 el at it! Film screen mammography has been the standard, but digital i
 s here! Full field digital mammography (FFDM) continues to replace fil
 m screen mammography around the country. This technology is versa-tile
  and has the ability to gather more information than ever before. The 
 technology has evolved so rapidly we are now on the third and fourth g
 eneration digital mammography units. If you really want to understand 
 digital imaging technology and the difference between DDM and CRM this
  is the class for you. The transition from analog to digital mammograp
 hy is exciting and requires the knowledge and understanding of more th
 an just how to operate the unit. Post processing techniques, tomosynth
 esis, contrast subtraction, CAD and many more tools are available to h
 elp detect breast cancers. Join us to see the use of digital imaging i
 n mammography and gain the understanding of digital imaging and digita
 l mammography quality control. Course Topics Introduction â€¢ History 
 / A Blast from the Past â€¢ Previous Modalities â€¢ Complementary Moda
 lities â€¢ Look How Far We Have Come! Terminology and Physics â€¢ New 
 Terminology for Analog Mammographers â€¢ The Digital Mammography Unit 
 â€¢ The Similarities; the Differences â€¢ Detector Technologies â€¢ Im
 age Acquisition â€¢ DDM Vs CRM Positioning and the Technique Chart â€¢
  Detector Size and Positioning Strategies â€¢ Magnification â€¢ Image 
 Critique/Positioning Standards â€¢ AEC/Grids â€¢ Technical Factors Ima
 ge Acquisition, Image Review and Image Optimization â€¢ Acquisition Wo
 rkstation â€¢ Review Workstation â€¢ Image Processing Quality Control 
 â€¢ Phantom Image Quality Control â€¢ MTF Measurement â€¢ System Resol
 ution â€¢ SNR/CNR â€¢ Display Device Calibration Check â€¢ Flat Field 
 â€¢ Repeat Analysis/Visual/Compression/Printer Advanced Applications â
 €¢ CAD â€¢ Digital Subtraction Angiography â€¢ Tomosynthesis â€¢ Contr
 ast Medium Mammography â€¢ Telemammography and Teleconsultations Patho
 logy â€¢ Case Studies\n\nINSTRUCTORS:\nSprinkle-Vincent\n\nCME HOURS: 
 8\n\nLECTURE TOPICS:\nnot listed\n\nFor more information visit https:/
 /community.radrounds.com/events/digital-mammography-new-game-5
DTSTART:20100426T040000Z
DTEND:20100427T035900Z
CATEGORIES:digital, mammography, -, new, game, rules
LOCATION:Advanced Health Education Center
WEBSITE:http://www.aheconline.com
URL:http://www.aheconline.com
CONTACT:713-772-0157
ORGANIZER:Advanced Health Education Center
ATTACH;FMTTYPE="image/jpeg":
ATTENDEE;ROLE=REQ-PARTICIPANT;PARTSTAT=ACCEPTED;RSVP=TRUE;CN="radRound
 s Radiology Events":https://community.radrounds.com/profile/radRoundsR
 adiologyEvents
END:VEVENT
END:VCALENDAR
