BEGIN:VCALENDAR
PRODID:NingEventWidget-v1
VERSION:2.0
METHOD:PUBLISH
BEGIN:VEVENT
UID:1791588:Event:177752
DTSTAMP:20260419T124357Z
SUMMARY:Digital Mammography and Clinical Applications (Live Simulcast)
DESCRIPTION:Come with us as we explore the mammographer’s world in t
 his updated digital mammography course designed just for the professio
 nal mammographer! Join the AHEC faculty for a day of information desig
 ned to help you meet the challenges of digital mammography. Gain valua
 ble information about digital mammography quality control and understa
 nd what those QC numbers really mean in the automated world of quality
  control. Take a look at the theory and physics of this fabulous techn
 ology. Discuss your digital mammography positioning challenges and lea
 rn how to work with them. Learn how to recognize digital mammography a
 rtifacts and what causes them. Brush up on your pathology recognition 
 skills and round out the day learning about clinical applications from
  positioning to mechanical to software issues. Come to learn and retur
 n to work with a renewed sense of pride for the wonderful job you do e
 very day as you save lives one patient at a time!\n\nFor more informat
 ion visit https://community.radrounds.com/events/digital-mammography-a
 nd-clinical-applications-live-simulcast-12
DTSTART:20181028T120000Z
DTEND:20181028T201500Z
CATEGORIES:live, simulcast
LOCATION:Advanced Health Education Center
WEBSITE:https://store.aheconline.com/index.php?route=product/product&a
 mp;path=59&amp;product_id=3443
URL:https://store.aheconline.com/index.php?route=product/product&amp;p
 ath=59&amp;product_id=3443
CONTACT:800-239-1361
ORGANIZER;CN="Larry Carney":https://community.radrounds.com/profile/La
 rryCarney
ATTACH;FMTTYPE="image/jpeg":
ATTENDEE;ROLE=REQ-PARTICIPANT;PARTSTAT=ACCEPTED;RSVP=TRUE;CN="Larry Ca
 rney":https://community.radrounds.com/profile/LarryCarney
ATTENDEE;ROLE=REQ-PARTICIPANT;PARTSTAT=TENTATIVE;RSVP=TRUE;CN="Kathy J
 acobsen Meng":https://community.radrounds.com/profile/KathyJacobsenMen
 g
END:VEVENT
END:VCALENDAR
