BEGIN:VCALENDAR
PRODID:NingEventWidget-v1
VERSION:2.0
METHOD:PUBLISH
BEGIN:VEVENT
UID:1791588:Event:168025
DTSTAMP:20260420T212323Z
SUMMARY:Digital Mammography and Clinical Applications
DESCRIPTION:Course Topics\n\nDigital Mammography Basics\nDigital Mammo
 graphy Theory and Physics\nPositioning\nDigital Artifacts\nQuality Con
 trol - What Do These QC Numbers Mean?\nClinical Applications\nPatholog
 y of the Breast in the Digital World\n\n\nFor more information visit h
 ttps://community.radrounds.com/events/digital-mammography-and-clinical
 -applications-17
DTSTART:20160731T120000Z
DTEND:20160731T201500Z
CATEGORIES:live, event
LOCATION:Houston
WEBSITE:https://store.aheconline.com/index.php?route=product/product&p
 ath=59&product_id=2137
URL:https://store.aheconline.com/index.php?route=product/product&path=
 59&product_id=2137
CONTACT:18002391361
ORGANIZER;CN="Larry Carney":https://community.radrounds.com/profile/La
 rryCarney
ATTACH;FMTTYPE="image/jpeg":
ATTENDEE;ROLE=REQ-PARTICIPANT;PARTSTAT=ACCEPTED;RSVP=TRUE;CN="Larry Ca
 rney":https://community.radrounds.com/profile/LarryCarney
END:VEVENT
END:VCALENDAR
