BEGIN:VCALENDAR
PRODID:NingEventWidget-v1
VERSION:2.0
METHOD:PUBLISH
BEGIN:VEVENT
UID:1791588:Event:158390
DTSTAMP:20260422T194842Z
SUMMARY:Digital Mammography and Clinical Applications
DESCRIPTION:Come with us as we explore the mammographer’s world in t
 his updated digital mammography course designed just for the professio
 nal mammographer! Join the AHEC faculty for a day of information desig
 ned to help you meet the challenges of digital mammography. Gain valua
 ble information about digital mammography quality control and understa
 nd what those QC numbers really mean in the automated world of quality
  control. Take a look at the theory and physics of this fabulous techn
 ology. Discuss your digital mammography positioning challenges and lea
 rn how to work with them. Learn how to recognize digital mammography a
 rtifacts and what causes them. Brush up on your pathology recognition 
 skills and round out the day learning about clinical applications from
  positioning to mechanical to software issues. Come to learn and retur
 n to work with a renewed sense of pride for the wonderful job you do e
 very day as you save lives one patient at a time!  Course Topics\n\nDi
 gital Mammography Basics\nDigital Mammography Theory and Physics\nPosi
 tioning\nDigital Artifacts\nQuality Control - What Do These QC Numbers
  Mean?\nClinical Applications\nPathology of the Breast in the Digital 
 World\n\n\nFor more information visit https://community.radrounds.com/
 events/digital-mammography-and-clinical-applications-15
DTSTART:20151018T040000Z
DTEND:20151019T035900Z
CATEGORIES:seminar
LOCATION:AHEC
WEBSITE:https://store.aheconline.com/index.php?route=product/product&f
 ilter_name=DIGITAL%20MAMMOGRAPHY%20AND%20CLINICAL%20APPLICATIONS&page=
 2&product_id=1586
URL:https://store.aheconline.com/index.php?route=product/product&filte
 r_name=DIGITAL%20MAMMOGRAPHY%20AND%20CLINICAL%20APPLICATIONS&page=2&pr
 oduct_id=1586
CONTACT:713-772-0157
ORGANIZER;CN="Larry Carney":https://community.radrounds.com/profile/La
 rryCarney
ATTACH;FMTTYPE="image/jpeg":
ATTENDEE;ROLE=REQ-PARTICIPANT;PARTSTAT=ACCEPTED;RSVP=TRUE;CN="Larry Ca
 rney":https://community.radrounds.com/profile/LarryCarney
END:VEVENT
END:VCALENDAR
