BEGIN:VCALENDAR
PRODID:NingEventWidget-v1
VERSION:2.0
METHOD:PUBLISH
BEGIN:VEVENT
UID:1791588:Event:115736
DTSTAMP:20260424T213528Z
SUMMARY:Digital Breast Tomosynthesis
DESCRIPTION:Digital Breast Tomosynthesis Saturday, February 11, 2012 -
  Saturday, February 11, 2012Advanced Health Education Center Houston, 
 Texas (TX), United StatesProvided by Advanced Health Education Center 
  CME Provider: Advanced Health Education Center 8502 Tybor DriveHousto
 n, Texas (TX) 77074United States\nToll Free: (800) 239-1361Phone: (713
 ) 772-0157Fax: (713) 772-0155\n\nConference Center:Advanced Health Edu
 cation Center 8502 Tybor DriveHouston, Texas (TX) 77074United States\n
 Phone: (800) 239-1361\nDescription:Come spend the day learning the new
  digital mammography application that is expected to show an increase 
 in breast cancer detection and reduce call back rates. The day is fill
 ed with interesting new information on Digital Breast Tomosynthesis (D
 BT). We will investigate the DBT technology, mammography technologist 
 quality control testing, clinical applications and more. While 2D mamm
 ography has its benefits over analog there is still the issue of super
 imposed tissue which can obscure structures. This unique modality demo
 nstrates breast tissue without overlying structures by imaging the bre
 ast in thin cross sectional slices. You don’t want to miss this day 
 of education and get in on the ground floor of knowledge regarding thi
 s fascinating new modality. Digital Breast Tomosynthesis is a new moda
 lity under MQSA which requires personnel to receive 8 hours of initial
  training before performing this clinical examination. This seminar pr
 ovides 8 hours of initial training in digital breast tomosynthesis for
  technologists as required by MQSA. Physicians are welcome to attend a
 nd recieve 8 Category 1 credits however the MQSA requirements for phys
 icians in this modality are specific to interpretation. Physicians mus
 t call AHEC at 800-239-1361 to register for this course in order to re
 ceive Category 1 credit. The cost for technologists for this course is
  $189.00 and for physicians $289.00 Register early you don't want to m
 iss this opportunity!\nCourse Topics • Digital Breast Tomosynthesis 
 Theory and Physics• FDA Submitted Clinical Trail Information• FDA 
 Approved Uses and Billing• Implementing Digital Breast Tomosynthesis
 • Radiation Dose Considerations• Quality Control for Digital Breas
 t Tomosynthesis• Positioning• DBT Case Studies\nSelf Assessment Mo
 dule (SAM): No\nInstructors:Susan Sprinkle-Vincent, AAS, RT(R)(M)\nSpe
 cialty Audience:Radiology\n\nFor more information visit https://commun
 ity.radrounds.com/events/digital-breast-tomosynthesis
DTSTART:20120211T050000Z
DTEND:20120212T045900Z
CATEGORIES:radiology
LOCATION:Advanced Health Education Center
WEBSITE:http://aheconline.com/
URL:http://aheconline.com/
CONTACT:(800) 239-1361
ORGANIZER:Advanced Health Education Center
ATTACH;FMTTYPE="image/jpeg":
ATTENDEE;ROLE=REQ-PARTICIPANT;PARTSTAT=ACCEPTED;RSVP=TRUE;CN="radRound
 s Radiology Events":https://community.radrounds.com/profile/radRoundsR
 adiologyEvents
END:VEVENT
END:VCALENDAR
