BEGIN:VCALENDAR
PRODID:NingEventWidget-v1
VERSION:2.0
METHOD:PUBLISH
BEGIN:VEVENT
UID:1791588:Event:177534
DTSTAMP:20260419T094903Z
SUMMARY:Digital Breast Tomosynthesis (Live Event)
DESCRIPTION:Come spend the day learning the new digital mammography ap
 plication that is expected to show an increase in breast cancer detect
 ion and reduce call back rates. The day is filled with interesting new
  information on Digital Breast Tomosynthesis (DBT). We will investigat
 e the DBT technology, mammography technologist quality control testing
 , clinical applications and more. While 2D mammography has its benefit
 s over analog there is still the issue of superimposed tissue which ca
 n obscure structures. This unique modality demonstrates breast tissue 
 without overlying structures by imaging the breast in thin cross secti
 onal slices. You don’t want to miss this day of education and get in
  on the ground floor of knowledge regarding this fascinating new modal
 ity. Digital Breast Tomosynthesis is a modality under MQSA which requi
 res personnel to receive 8 hours of initial training before performing
  this clinical examination. This seminar provides 8 hours of initial t
 raining in digital breast tomosynthesis for technologists as required 
 by MQSA. Physicians are welcome to attend and receive 8 Category 1 cre
 dits however the MQSA requirements for physicians in this modality are
  specific to interpretation. Physicians must call AHEC at 800-239-1361
  to register for this course in order to receive Category 1 credit.\n\
 nThis course satisfies the MQSA requirement of 8.0 hours of training i
 n a new mammographic modality.  It includes the common features of Di
 gital Breast Tomosynthesis and the unique features specific to the Hol
 ogic Selenia Dimensions DBT System. \n**Participants who will be work
 ing on GE SenoClaire or the Siemens Mammomat Inspiration DBT equipment
  may attend this course.  Please call AHEC for more information on ho
 w to accomplish the unique equipment component training for your persp
 ective system. \n\nFor more information visit https://community.radrou
 nds.com/events/digital-breast-tomosynthesis-live-event-6
DTSTART:20180521T120000Z
DTEND:20180521T200000Z
CATEGORIES:live, event
LOCATION:Advanced Health Education Center
WEBSITE:https://store.aheconline.com/index.php?route=product/product&a
 mp;path=59&amp;product_id=3445
URL:https://store.aheconline.com/index.php?route=product/product&amp;p
 ath=59&amp;product_id=3445
CONTACT:800-239-1361
ORGANIZER;CN="Larry Carney":https://community.radrounds.com/profile/La
 rryCarney
ATTACH;FMTTYPE="image/jpeg":
ATTENDEE;ROLE=REQ-PARTICIPANT;PARTSTAT=ACCEPTED;RSVP=TRUE;CN="Larry Ca
 rney":https://community.radrounds.com/profile/LarryCarney
END:VEVENT
END:VCALENDAR
