BEGIN:VCALENDAR
PRODID:NingEventWidget-v1
VERSION:2.0
METHOD:PUBLISH
BEGIN:VEVENT
UID:1791588:Event:151490
DTSTAMP:20260421T043813Z
SUMMARY:Digital Breast Tomosynthesis
DESCRIPTION:Come spend the day learning the new digital mammography ap
 plication that is expected to show an increase in breast cancer detect
 ion and reduce call back rates. The day is filled with interesting new
  information on Digital Breast Tomosynthesis (DBT). We will investigat
 e the DBT technology, mammography technologist quality control testing
 , clinical applications and more. While 2D mammography has its benefit
 s over analog there is still the issue of superimposed tissue which ca
 n obscure structures. This unique modality demonstrates breast tissue 
 without overlying structures by imaging the breast in thin cross secti
 onal slices. You do not want to miss this day of education and get in 
 on the ground floor of knowledge regarding this fascinating new modali
 ty.\n\nFor more information visit https://community.radrounds.com/even
 ts/digital-breast-tomosynthesis-905
DTSTART:20140510T120000Z
DTEND:20140510T201500Z
CATEGORIES:ce, mammography
LOCATION:Advanced Health Education Center
WEBSITE:https://store2.aheconline.com/index.php?route=product/product&
 path=59&product_id=904
URL:https://store2.aheconline.com/index.php?route=product/product&path
 =59&product_id=904
CONTACT:
ORGANIZER;CN="Larry Carney":https://community.radrounds.com/profile/La
 rryCarney
ATTACH;FMTTYPE="image/jpeg":
ATTENDEE;ROLE=REQ-PARTICIPANT;PARTSTAT=ACCEPTED;RSVP=TRUE;CN="Larry Ca
 rney":https://community.radrounds.com/profile/LarryCarney
END:VEVENT
END:VCALENDAR
