BEGIN:VCALENDAR
PRODID:NingEventWidget-v1
VERSION:2.0
METHOD:PUBLISH
BEGIN:VEVENT
UID:1791588:Event:158407
DTSTAMP:20260421T060336Z
SUMMARY:Digital Breast Tomosynthesis
DESCRIPTION:Register early and save! Please register early and reserve
  your place by providing payment to avoid an additional $25 fee requir
 ed for registrations given within two (2) weeks of the course.\nCome s
 pend the day learning the new digital mammography application that is 
 expected to show an increase in breast cancer detection and reduce cal
 l back rates. The day is filled with interesting new information on Di
 gital Breast Tomosynthesis (DBT). We will investigate the DBT technolo
 gy, mammography technologist quality control testing, clinical applica
 tions and more. While 2D mammography has its benefits over analog ther
 e is still the issue of superimposed tissue which can obscure structur
 es. This unique modality demonstrates breast tissue without overlying 
 structures by imaging the breast in thin cross sectional slices. You d
 on’t want to miss this day of education and get in on the ground flo
 or of knowledge regarding this fascinating new modality. Digital Breas
 t Tomosynthesis is a modality under MQSA which requires personnel to r
 eceive 8 hours of initial training before performing this clinical exa
 mination. This seminar provides 8 hours of initial training in digital
  breast tomosynthesis for technologists as required by MQSA. Physician
 s are welcome to attend and receive 8 Category 1 credits however the M
 QSA requirements for physicians in this modality are specific to inter
 pretation. Physicians must call AHEC at 800-239-1361 to register for t
 his course in order to receive Category 1 credit.  \nCourse Topics\n\
 nTheory and Technology Part 1 - Introduction to DBT\nTheory and Techno
 logy Part 2 - The Need for 3D Breast Tomosynthesis\nFDA Submitted Clin
 ical Trial Information and Tomosynthesis Unit Applications\nConnectivi
 ty Information\nSite Readiness and Reimbursement\nRadiation Dose Consi
 derations\nTechnologists Quality Control\nPathology and Beyond\n\nInst
 ructor: Deborah Thames, RT(R)(M)(QM)\n\n\nFor more information visit 
 https://community.radrounds.com/events/digital-breast-tomosynthesis-78
 0
DTSTART:20150720T120000Z
DTEND:20150720T210000Z
CATEGORIES:seminar
LOCATION:Advanced Health Education Center
WEBSITE:https://store.aheconline.com/index.php?route=product/product&f
 ilter_name=digital%20breast%20tomosynthesis&product_id=1575
URL:https://store.aheconline.com/index.php?route=product/product&filte
 r_name=digital%20breast%20tomosynthesis&product_id=1575
CONTACT:713-772-0157
ORGANIZER;CN="Larry Carney":https://community.radrounds.com/profile/La
 rryCarney
ATTACH;FMTTYPE="image/jpeg":
ATTENDEE;ROLE=REQ-PARTICIPANT;PARTSTAT=ACCEPTED;RSVP=TRUE;CN="Larry Ca
 rney":https://community.radrounds.com/profile/LarryCarney
END:VEVENT
END:VCALENDAR
