BEGIN:VCALENDAR
PRODID:NingEventWidget-v1
VERSION:2.0
METHOD:PUBLISH
BEGIN:VEVENT
UID:1791588:Event:168048
DTSTAMP:20260420T212145Z
SUMMARY:Digital Breast Tomosynthesis
DESCRIPTION:Course Topics\n\nTheory and Technology Part 1 - Introducti
 on to DBT\nTheory and Technology Part 2 - The Need for 3D Breast Tomos
 ynthesis\nFDA Submitted Clinical Trial Information and Tomosynthesis U
 nit Applications\nConnectivity Information\nSite Readiness and Reimbur
 sement\nRadiation Dose Considerations\nTechnologists Quality Control\n
 Pathology and Beyond\n\n\nFor more information visit https://community
 .radrounds.com/events/digital-breast-tomosynthesis-739
DTSTART:20160924T130000Z
DTEND:20160924T203000Z
CATEGORIES:simulcast
LOCATION:Houston
WEBSITE:https://store.aheconline.com/index.php?route=product/product&p
 ath=59&product_id=2148
URL:https://store.aheconline.com/index.php?route=product/product&path=
 59&product_id=2148
CONTACT:18002391361
ORGANIZER;CN="Larry Carney":https://community.radrounds.com/profile/La
 rryCarney
ATTACH;FMTTYPE="image/jpeg":
ATTENDEE;ROLE=REQ-PARTICIPANT;PARTSTAT=ACCEPTED;RSVP=TRUE;CN="Larry Ca
 rney":https://community.radrounds.com/profile/LarryCarney
END:VEVENT
END:VCALENDAR
