BEGIN:VCALENDAR
PRODID:NingEventWidget-v1
VERSION:2.0
METHOD:PUBLISH
BEGIN:VEVENT
UID:1791588:Event:116167
DTSTAMP:20260423T064007Z
SUMMARY:Diagnostic Imaging Extravaganza for NCT'S
DESCRIPTION:Diagnostic Imaging Extravaganza for NCT'S Saturday, April 
 28, 2012 - Saturday, April 28, 2012Advanced Health Education Center Ho
 uston, Texas (TX), United StatesProvided by Advanced Health Education 
 Center  CME Provider: Advanced Health Education Center 8502 Tybor Driv
 eHouston, Texas (TX) 77074United States\nToll Free: (800) 239-1361Phon
 e: (713) 772-0157Fax: (713) 772-0155\n\nConference Center:Advanced Hea
 lth Education Center 8502 Tybor DriveHouston, Texas (TX) 77074United S
 tates\nPhone: (800) 239-1361\n Description:Fundamentals are the name o
 f the game in imaging to produce quality and consistent images. Radiat
 ion protection, consistent exposures and positioning are the “bread 
 and butter “skills needed to produce quality images. Repeats due to 
 positioning errors increases patient exposure, cost of the procedure a
 nd decreases efficiency. Today’s patients want to be assured they ar
 e receiving the best exam possible with the least amount of exposure. 
 Join us for a day of learning that will provide you with the most upda
 ted information in radiation protection and a comprehensive review of 
 the science of positioning. You will have an opportunity to share “t
 ricks of the trade” on practical positioning applications and partic
 ipate in image critique and analysis of good film vs. bad film.\nCours
 e Topics\n• Radiation Safety Update • Reduction of radiation expos
 ure• Time, distance & shielding • Tips and Tricks for Positioning
  Chest Radiography: The Most Repeated Radiograph• Beyond the Basic
  KUB: Why For’s and How To’s• Back to Backs: Spine Radiography
  Extremity • Professional images• Viewing radiographs correctly 
  Criteria for evaluation\nSelf Assessment Module (SAM): No\nInstruct
 ors:Cindra Daniels, BS, R.T.\nSpecialty Audience:Radiology\n\nFor more
  information visit https://community.radrounds.com/events/diagnostic-i
 maging-extravaganza-for-nct-s-2
DTSTART:20120428T040000Z
DTEND:20120429T035900Z
CATEGORIES:radiology
LOCATION:Advanced Health Education Center
WEBSITE:http://aheconline.com/
URL:http://aheconline.com/
CONTACT:(800) 239-1361
ORGANIZER:Advanced Health Education Center
ATTACH;FMTTYPE="image/jpeg":
ATTENDEE;ROLE=REQ-PARTICIPANT;PARTSTAT=ACCEPTED;RSVP=TRUE;CN="radRound
 s Radiology Events":https://community.radrounds.com/profile/radRoundsR
 adiologyEvents
END:VEVENT
END:VCALENDAR
