BEGIN:VCALENDAR
PRODID:NingEventWidget-v1
VERSION:2.0
METHOD:PUBLISH
BEGIN:VEVENT
UID:1791588:Event:116065
DTSTAMP:20260423T154329Z
SUMMARY:Diagnostic Imaging Extravaganza for NCT'S
DESCRIPTION:Diagnostic Imaging Extravaganza for NCT'S Saturday, March 
 31, 2012 - Saturday, March 31, 2012Holiday Inn Select Airport San Anto
 nio, Texas (TX), United StatesProvided by Advanced Health Education Ce
 nter  CME Provider: Advanced Health Education Center 8502 Tybor DriveH
 ouston, Texas (TX) 77074United States\nToll Free: (800) 239-1361Phone:
  (713) 772-0157Fax: (713) 772-0155\n\nConference Center:Holiday Inn Se
 lect Airport 77 NE Loop 410San Antonio, Texas (TX) 78216United States\
 nPhone: (210) 349-9900Fax: (210) 349-4660\n Description:Fundamentals a
 re the name of the game in imaging to produce quality and consistent i
 mages. Radiation protection, consistent exposures and positioning are 
 the “bread and butter “skills needed to produce quality images. Re
 peats due to positioning errors increases patient exposure, cost of th
 e procedure and decreases efficiency. Today’s patients want to be as
 sured they are receiving the best exam possible with the least amount 
 of exposure. Join us for a day of learning that will provide you with 
 the most updated information in radiation protection and a comprehensi
 ve review of the science of positioning. You will have an opportunity 
 to share “tricks of the trade” on practical positioning applicatio
 ns and participate in image critique and analysis of good film vs. bad
  film.\nCourse Topics\n• Radiation Safety Update • Reduction of ra
 diation exposure• Time, distance & shielding • Tips and Tricks for
  Positioning• Chest Radiography: The Most Repeated Radiograph• Bey
 ond the Basic KUB: Why For’s and How To’s• Back to Backs: Spine 
 Radiography• Extremity • Professional images• Viewing radiograph
 s correctly • Criteria for evaluation\nSelf Assessment Module (SAM):
  No\nInstructors:Cindra Daniels, BS, R.T.\nSpecialty Audience:Radiolog
 y\n\nFor more information visit https://community.radrounds.com/events
 /diagnostic-imaging-extravaganza-for-nct-s-1
DTSTART:20120331T040000Z
DTEND:20120401T035900Z
CATEGORIES:radiology
LOCATION:Holiday Inn Select Airport
WEBSITE:http://www.holidayinn.com/hotels/us/en/san-antonio/satap/hotel
 detail
URL:http://www.holidayinn.com/hotels/us/en/san-antonio/satap/hoteldeta
 il
CONTACT:(210) 349-9900
ORGANIZER:Advanced Health Education Center
ATTACH;FMTTYPE="image/jpeg":
ATTENDEE;ROLE=REQ-PARTICIPANT;PARTSTAT=ACCEPTED;RSVP=TRUE;CN="radRound
 s Radiology Events":https://community.radrounds.com/profile/radRoundsR
 adiologyEvents
END:VEVENT
END:VCALENDAR
