BEGIN:VCALENDAR
PRODID:NingEventWidget-v1
VERSION:2.0
METHOD:PUBLISH
BEGIN:VEVENT
UID:1791588:Event:161557
DTSTAMP:20260423T043231Z
SUMMARY:Current Practice of Vascular Ultrasound -- THE NEXT EDITION
DESCRIPTION:IAME is proud to introduce CURRENT PRACTICE OF VASCULAR UL
 TRASOUND: The Next Edition. CURRENT PRACTICE OF VASCULAR ULTRASOUND: T
 he Next Edition represents a new generation of learning experience for
  practitioners of vascular ultrasound.  It draws from IAME's experien
 ce over 2 decades of educational outreach to nearly thirty thousand pa
 rticipants.CURRENT PRACTICE OF VASCULAR ULTRASOUND: The Next Edition i
 s not a passive learning experience.  It is a full immersion into the
  principles behind, and day to day management of, the clinical challen
 ges you enounter in today's vascular lab.   Under the leadership of 
 Drs. John Pellerito, Joseph Polak and a changing roster of guest speak
 ers you will actively participate in dynamic learning sessions that ch
 allenge and inform.  You will see, hear and interact with today's sta
 te of practice.  And you will return to your practice with better kno
 wledge and abilities.\nThis program is designed for you if you are a..
 .\n\nCardiologist\nRadiologist\nVascular Surgeon\nSonographer\nVascula
 r Technologist\nOther physician with an interest in vascular assessmen
 t\n\n\nFor more information visit https://community.radrounds.com/even
 ts/current-practice-of-vascular-ultrasound-the-next-edition
DTSTART:20151009T220000Z
DTEND:20151010T230000Z
CATEGORIES:cme, conference
LOCATION:W Hotel Atlanta Midtown
WEBSITE:http://iame.com/current-practice-of-vascular-ultrasound-vu1.ht
 ml
URL:http://iame.com/current-practice-of-vascular-ultrasound-vu1.html
CONTACT:802 824 4433
ORGANIZER;CN="Richard Hom":https://community.radrounds.com/profile/Ric
 hardHom
ATTACH;FMTTYPE="image/jpeg":
ATTENDEE;ROLE=REQ-PARTICIPANT;PARTSTAT=ACCEPTED;RSVP=TRUE;CN="Richard 
 Hom":https://community.radrounds.com/profile/RichardHom
END:VEVENT
END:VCALENDAR
