BEGIN:VCALENDAR
PRODID:NingEventWidget-v1
VERSION:2.0
METHOD:PUBLISH
BEGIN:VEVENT
UID:1791588:Event:163241
DTSTAMP:20260421T014934Z
SUMMARY:Current Practice of Vascular Ultrasound -- The Next Edition
DESCRIPTION:The Next Edition features:\n• Dual screen projection wit
 h multimedia display of video cases, scanning demonstrations,correlati
 ve imaging or audience feedback throughout the meeting • Extensive f
 aculty-audience interaction using the newest digital communication too
 ls • Conference syllabus available on flash drive, iPad/android app 
 and online • And many more new aids to learningAS ALWAYS THE PROGRAM
  PROVIDES YOU WITH: • Extensive reviews of Doppler waveforms • Emp
 hasis on technical tips and tricks of the trade • Exam interpetation
 , reporting, differential diagnoses and physiology • Updates on the 
 most current guidelines and appropriate use criteria • Integration o
 f vascular imaging with current issues in clinical practiceRVT AND RPV
 I CANDIDATES: CURRENT PRACTICE OF VASCULAR ULTRASOUND: THE NEXT EDITIO
 N is a comprehensive program that will aid in registry exam preparatio
 n.\n\nFor more information visit https://community.radrounds.com/event
 s/current-practice-of-vascular-ultrasound-the-next-edition-3
DTSTART:20160429T220000Z
DTEND:20160430T230000Z
CATEGORIES:cme, conference
LOCATION:InterContinental Mark Hopkins San Francisco
WEBSITE:https://iame.com/current-practice-of-vascular-ultrasound-the-n
 ext-edition-vu4.html
URL:https://iame.com/current-practice-of-vascular-ultrasound-the-next-
 edition-vu4.html
CONTACT:802 824 4433
ORGANIZER;CN="Richard Hom":https://community.radrounds.com/profile/Ric
 hardHom
ATTACH;FMTTYPE="image/jpeg":
ATTENDEE;ROLE=REQ-PARTICIPANT;PARTSTAT=ACCEPTED;RSVP=TRUE;CN="Richard 
 Hom":https://community.radrounds.com/profile/RichardHom
END:VEVENT
END:VCALENDAR
