BEGIN:VCALENDAR
PRODID:NingEventWidget-v1
VERSION:2.0
METHOD:PUBLISH
BEGIN:VEVENT
UID:1791588:Event:116276
DTSTAMP:20260422T081257Z
SUMMARY:Current Practice of Vascular Ultrasound
DESCRIPTION:Current Practice of Vascular Ultrasound Friday, May 04, 20
 12 - Sunday, May 06, 2012Intercontinental Buckhead Atlanta Atlanta, Ge
 orgia (GA), United StatesProvided by Institute for Advanced Medical Ed
 ucation (IAME)  CME Provider: Institute for Advanced Medical Education
  (IAME) Registrar54 Hearthstone LaneSouth Londonderry, Vermont (VT) 05
 155United States\nPhone: (802) 824-4433Fax: (802) 824-3737\n\nConferen
 ce Center:Intercontinental Buckhead Atlanta 3315 Peachtree Road N.E.At
 lanta, Georgia (GA) 30326United States\nPhone: (404) 946-9000Fax: (404
 ) 946-9001\nDescription:Current Practice of Vascular Ultrasound contin
 ues to evolve as your authoritative source of information on non-invas
 ive vascular diagnosis. This program will emphasize carotid, periphera
 l and abdominal applications and will feature live demonstrations usin
 g the latest in ultrasound equipment. Physician interpretation session
 s include panel discussions and practice cases.\nEarn up to 21 CME cre
 dits.\nSelf Assessment Module (SAM): No\nInstructors:Conference Co-Cha
 irs: John Pellerito, MD, FACR and Joseph Pollak, MD, MPH\nFaculty:Heat
 her Gornik, MDFrederick Kremkau, PhDMarsha Neumyer, BS, RVTPatricia Po
 e, BA, RVT\nSpecialty Audience:Internal MedicineRadiology\n\nFor more 
 information visit https://community.radrounds.com/events/current-pract
 ice-of-vascular-ultrasound-3
DTSTART:20120504T040000Z
DTEND:20120507T035900Z
CATEGORIES:radiology
LOCATION:Intercontinental Buckhead Atlanta
WEBSITE:http://www.ichotelsgroup.com/intercontinental/en/gb/locations/
 overview/ATLBH
URL:http://www.ichotelsgroup.com/intercontinental/en/gb/locations/over
 view/ATLBH
CONTACT:(404) 946-9000
ORGANIZER:Institute for Advanced Medical Education (IAME)
ATTACH;FMTTYPE="image/jpeg":
ATTENDEE;ROLE=REQ-PARTICIPANT;PARTSTAT=ACCEPTED;RSVP=TRUE;CN="radRound
 s Radiology Events":https://community.radrounds.com/profile/radRoundsR
 adiologyEvents
END:VEVENT
END:VCALENDAR
