BEGIN:VCALENDAR
PRODID:NingEventWidget-v1
VERSION:2.0
METHOD:PUBLISH
BEGIN:VEVENT
UID:1791588:Event:116353
DTSTAMP:20260423T113558Z
SUMMARY:Current Practice of Vascular Ultrasound
DESCRIPTION:Current Practice of Vascular Ultrasound Friday, April 20, 
 2012 - Sunday, April 22, 2012Wynn Las Vegas Las Vegas, Nevada (NV), Un
 ited StatesProvided by Institute for Advanced Medical Education (IAME)
   CME Provider: Institute for Advanced Medical Education (IAME) Regist
 rar54 Hearthstone LaneSouth Londonderry, Vermont (VT) 05155United Stat
 es\nPhone: (802) 824-4433Fax: (802) 824-3737\n\nConference Center:Wynn
  Las Vegas 3131 Las Vegas Boulevard SouthLas Vegas, Nevada (NV) 89109U
 nited States\nToll Free: (877) 321-9966Phone: (702) 770-7100Fax: (702)
  770-1571\n Description:Current Practice of Vascular Ultrasound contin
 ues to evolve as your authoritative source of information on non-invas
 ive vascular diagnosis. This program will emphasize carotid, periphera
 l and abdominal applications and will feature live demonstrations usin
 g the latest in ultrasound equipment. Physician interpretation session
 s include panel discussions and practice cases.\nEarn up to 21 CME cre
 dits.\nSelf Assessment Module (SAM): No\nInstructors:Conference Co-Cha
 irs: John Pellerito, MD, FACR and Joseph Pollak, MD, MPH\nFaculty:Heat
 her Gornik, MDFrederick Kremkau, PhDMarsha Neumyer, BS, RVTPatricia Po
 e, BA, RVT\nSpecialty Audience:Internal MedicineRadiology\n\nFor more 
 information visit https://community.radrounds.com/events/current-pract
 ice-of-vascular-ultrasound-2
DTSTART:20120420T040000Z
DTEND:20120423T035900Z
CATEGORIES:radiology
LOCATION:Wynn Las Vegas
WEBSITE:http://www.wynnlasvegas.com/
URL:http://www.wynnlasvegas.com/
CONTACT:(702) 770-7100
ORGANIZER:Institute for Advanced Medical Education (IAME)
ATTACH;FMTTYPE="image/jpeg":
ATTENDEE;ROLE=REQ-PARTICIPANT;PARTSTAT=ACCEPTED;RSVP=TRUE;CN="radRound
 s Radiology Events":https://community.radrounds.com/profile/radRoundsR
 adiologyEvents
END:VEVENT
END:VCALENDAR
