BEGIN:VCALENDAR
PRODID:NingEventWidget-v1
VERSION:2.0
METHOD:PUBLISH
BEGIN:VEVENT
UID:1791588:Event:73153
DTSTAMP:20260425T222116Z
SUMMARY:Current Practice of Vascular Ultrasound
DESCRIPTION:Current Practice of Vascular Ultrasound\nOctober 21-23, 20
 11\nLas Vegas, NV\n\nThe Venetian Las Vegas\n3355 Las Vegas Blvd. Sout
 h\nLas Vegas, NV 891009\nRate: $209\nCutoff: 08/13/2011\n702-414-1000\
 nhttp://www.venetian.com/\n\nEnjoy the Sights and Flavors Of the Las V
 egas Strip The Venetian and Palazzo Hotels are located in the heart of
  the famous Las Vegas Strip. Inspired by the romance and grandeur of V
 enice, Italy, you are treated to an unparalleled array of amenities an
 d attractions. Remarkable restaurants from the likes of Wolfgang Puck,
  Emeril Lagasse, Charlie Trotter, Thomas Keller, and other culinary lu
 minaries await you.\n\nPlease specify that you will be attending the I
 AME meeting when making your reservations. Our block is based on a lim
 ited number of rooms. Neither IAME nor the hotel can guarantee that th
 ese rooms will not sell out prior to the stated deadlines. To avoid di
 sappointment, we encourage you to book early.\n\nFor more information 
 visit https://community.radrounds.com/events/current-practice-of-vascu
 lar-9
DTSTART:20111021T040000Z
DTEND:20111024T035900Z
CATEGORIES:ultrasound
LOCATION:The Venetian Las Vegas
WEBSITE:https://iame.com/conferences/c78/
URL:https://iame.com/conferences/c78/
CONTACT:
ORGANIZER:Institute for Advanced Medical Education (IAME)
ATTACH;FMTTYPE="image/jpeg":
ATTENDEE;ROLE=REQ-PARTICIPANT;PARTSTAT=ACCEPTED;RSVP=TRUE;CN="radRound
 s Radiology Events":https://community.radrounds.com/profile/radRoundsR
 adiologyEvents
END:VEVENT
END:VCALENDAR
