BEGIN:VCALENDAR
PRODID:NingEventWidget-v1
VERSION:2.0
METHOD:PUBLISH
BEGIN:VEVENT
UID:1791588:Event:73177
DTSTAMP:20260425T190839Z
SUMMARY:Current Practice of Vascular Ultrasound
DESCRIPTION:Current Practice of Vascular Ultrasound\nOctober 28-30, 20
 11\nChicago, IL\n\nMore information coming soon.\n\nHotel\nThe Westin 
 Chicago River North\n320 North Dearborn St.\nChicago, IL 60654\nRate: 
 $259\n10/7/11 - 5pm\n312-744-1900\nhttp://www.starwoodhotels.com/westi
 n/search/pre_decider_all.html?propertyID=1031&ES=TMH_WI_FWestinChicago
 North_103\n\nGuest rooms feature Westin's insanely comfortable Heavenl
 y Bed® and invigorating Heavenly Bath®, as well as splendid views of
  the Chicago skyline or the Chicago River. Relax in luxurious surround
 ings with all the amenities in an ideal central location. Please speci
 fy that you will be attending the IAME meeting when making your reserv
 ations. Our block is based on a limited number of rooms. Neither IAME 
 nor the hotel can guarantee that these rooms will not sell out prior t
 o the stated deadlines. To avoid disappointment, we encourage you to b
 ook early.\n\nFor more information visit https://community.radrounds.c
 om/events/current-practice-of-vascular-10
DTSTART:20111028T040000Z
DTEND:20111031T035900Z
CATEGORIES:ultrasound
LOCATION:The Westin Chicago River North
WEBSITE:https://iame.com/conferences/c79/
URL:https://iame.com/conferences/c79/
CONTACT:312-744-1900
ORGANIZER:Institute for Advanced Medical Education (IAME)
ATTACH;FMTTYPE="image/jpeg":
ATTENDEE;ROLE=REQ-PARTICIPANT;PARTSTAT=ACCEPTED;RSVP=TRUE;CN="radRound
 s Radiology Events":https://community.radrounds.com/profile/radRoundsR
 adiologyEvents
END:VEVENT
END:VCALENDAR
