BEGIN:VCALENDAR
PRODID:NingEventWidget-v1
VERSION:2.0
METHOD:PUBLISH
BEGIN:VEVENT
UID:1791588:Event:172651
DTSTAMP:20260422T002733Z
SUMMARY:Current Imaging Tools (Live Webinar)
DESCRIPTION:Course Topics\n\nWhat Do Digital Modalities Have in Common
 ?\nAdvantages of Hybrid Imaging\nRadiologic Diagnosis: Drug Smugglers 
 and Body Packers\n\n\nFor more information visit https://community.rad
 rounds.com/events/current-imaging-tools-live-webinar-1
DTSTART:20171019T220000Z
DTEND:20171020T003000Z
CATEGORIES:live, webinar
LOCATION:Advanced Health Education Center
WEBSITE:https://store.aheconline.com/index.php?route=product/product&p
 ath=59&product_id=3006
URL:https://store.aheconline.com/index.php?route=product/product&path=
 59&product_id=3006
CONTACT:800-239-1361
ORGANIZER;CN="Larry Carney":https://community.radrounds.com/profile/La
 rryCarney
ATTACH;FMTTYPE="image/jpeg":
ATTENDEE;ROLE=REQ-PARTICIPANT;PARTSTAT=ACCEPTED;RSVP=TRUE;CN="Larry Ca
 rney":https://community.radrounds.com/profile/LarryCarney
END:VEVENT
END:VCALENDAR
