BEGIN:VCALENDAR
PRODID:NingEventWidget-v1
VERSION:2.0
METHOD:PUBLISH
BEGIN:VEVENT
UID:1791588:Event:190733
DTSTAMP:20260421T123612Z
SUMMARY:Current Hot Topics of Interest in Mammography (Live Webinar)
DESCRIPTION:Course Topics:\n\nSocial Media Mistakes that Can Get You i
 n Hot Water\nStatistics on Social Media\nLegislation and Social Media\
 nThe Got Fired for What?\n\n\nIs New Technology Doing-In Radiation Saf
 ety Strategies\nNew Technology Mistakes Technologists Make\nUnderstand
 ing the Bells and the Whistles of Digital\n Manufacturers Like to Be 
 Different and How this Affects the Technologist\n\n\nKeeping Your Firs
 t Procedure from Becoming Your Worst Procedure\nChest radiology Do's a
 nd Don'ts\nChest Positioning 101\nImproving Portable Chest Imaging\n\n
 \n\nCourse Objectives\nAt the conclusion of this lecture the participa
 nt should be able to:\n\nIdentify at least 3 mistakes that can affect 
 their jobs that people often make on social media\nDiscuss federal rig
 hts vs. state rights for social media use at work\nDescribe digital im
 aging mistakes that can actually increase patient dose\nUnderstand tha
 t various manufacturers mean numerous differences in the actual settin
 gs on equipment.\nList at least 2 mistakes that technologists often ma
 ke on chest imaging\nName 2 mistake technologists make on pediatric ch
 est imaging\nDiscuss how portable chest radiography is perceived vs. r
 eality\n\n\nFor more information visit https://community.radrounds.com
 /events/current-hot-topics-of-interest-in-mammography-live-webinar
DTSTART:20190614T160000Z
DTEND:20190614T190000Z
CATEGORIES:live, webinar
LOCATION:Advanced Health Education Center
WEBSITE:http://store.aheconline.com
URL:http://store.aheconline.com
CONTACT:1(800) 239-1361
ORGANIZER:AHEC
ATTACH;FMTTYPE="image/jpeg":
ATTENDEE;ROLE=REQ-PARTICIPANT;PARTSTAT=ACCEPTED;RSVP=TRUE;CN="Larry Ca
 rney":https://community.radrounds.com/profile/LarryCarney
END:VEVENT
END:VCALENDAR
