BEGIN:VCALENDAR
PRODID:NingEventWidget-v1
VERSION:2.0
METHOD:PUBLISH
BEGIN:VEVENT
UID:1791588:Event:190735
DTSTAMP:20260421T143413Z
SUMMARY:Current Hot Topics of Interest in Mammography (Live Webinar)
DESCRIPTION:\nCourse Topics:\n\nSocial Media Mistakes that Can Get You
  in Hot Water\nStatistics on Social Media\nLegislation and Social Medi
 a\nThe Got Fired for What?\n\n\nIs New Technology Doing-In Radiation S
 afety Strategies\nNew Technology Mistakes Technologists Make\nUndersta
 nding the Bells and the Whistles of Digital\n Manufacturers Like to B
 e Different and How this Affects the Technologist\n\n\nKeeping Your Fi
 rst Procedure from Becoming Your Worst Procedure\nChest radiology Do's
  and Don'ts\nChest Positioning 101\nImproving Portable Chest Imaging\n
 \n\n\nCourse Objectives\nAt the conclusion of this lecture the partici
 pant should be able to:\n\nIdentify at least 3 mistakes that can affec
 t their jobs that people often make on social media\nDiscuss federal r
 ights vs. state rights for social media use at work\nDescribe digital 
 imaging mistakes that can actually increase patient dose\nUnderstand t
 hat various manufacturers mean numerous differences in the actual sett
 ings on equipment.\nList at least 2 mistakes that technologists often 
 make on chest imaging\nName 2 mistake technologists make on pediatric 
 chest imaging\nDiscuss how portable chest radiography is perceived vs.
  reality\n\n\nFor more information visit https://community.radrounds.c
 om/events/current-hot-topics-of-interest-in-mammography-live-webinar-1
DTSTART:20190628T160000Z
DTEND:20190628T190000Z
CATEGORIES:live, webinar
LOCATION:Advanced Health Education Center
WEBSITE:http://store.aheconline.com
URL:http://store.aheconline.com
CONTACT:1(800) 239-1361
ORGANIZER:AHEC
ATTACH;FMTTYPE="image/jpeg":
ATTENDEE;ROLE=REQ-PARTICIPANT;PARTSTAT=ACCEPTED;RSVP=TRUE;CN="Larry Ca
 rney":https://community.radrounds.com/profile/LarryCarney
END:VEVENT
END:VCALENDAR
