BEGIN:VCALENDAR
PRODID:NingEventWidget-v1
VERSION:2.0
METHOD:PUBLISH
BEGIN:VEVENT
UID:1791588:Event:186655
DTSTAMP:20260420T012203Z
SUMMARY:Current Hot Topics in Imaging (Live Webinar)
DESCRIPTION:Course Topics:\n\nSocial Media Mistakes that Can Get You i
 n Hot Water Statistics on Social Media\nLegislation and Social Media\
 nThey Got Fired for What?\nIs New Technology Doing-in Your Radiation S
 afety Strategies \nNew Technology Mistakes Technologists Make\nUnders
 tanding the Bells and the Whistles of Digital\nManufacturers Like to B
 e Different and How this Affects the Technologist\n\n\nKeeping Your Fi
 rst Procedure from Becoming Your Worst Procedure \nChest radiography 
 Do’s and Don’ts\nChest Positioning 101\nImproving Portable Chest I
 maging\n\n\n\n\nFor more information visit https://community.radrounds
 .com/events/current-hot-topics-in-imaging-live-webinar-8
DTSTART:20190211T180000Z
DTEND:20190211T210000Z
CATEGORIES:live, webinar
LOCATION:Advanced Health Education Center
WEBSITE:https://store.aheconline.com/
URL:https://store.aheconline.com/
CONTACT:1(800) 239-1361
ORGANIZER:AHEC
ATTACH;FMTTYPE="image/jpeg":
ATTENDEE;ROLE=REQ-PARTICIPANT;PARTSTAT=ACCEPTED;RSVP=TRUE;CN="Larry Ca
 rney":https://community.radrounds.com/profile/LarryCarney
END:VEVENT
END:VCALENDAR
