BEGIN:VCALENDAR
PRODID:NingEventWidget-v1
VERSION:2.0
METHOD:PUBLISH
BEGIN:VEVENT
UID:1791588:Event:183737
DTSTAMP:20260419T234250Z
SUMMARY:Current Hot Topics in Imaging (Live Webinar)
DESCRIPTION:Course Topics:\n\nSocial Media Mistakes that Can Get You i
 n Hot Water \n\no   Statistics on Social Media\no   Legislation a
 nd Social Media\no   They Got Fired for What?\n\nIs New Technology D
 oing-in Your Radiation Safety Strategies \n\no   New Technology Mis
 takes Technologists Make\no   Understanding the Bells and the Whistl
 es of Digital\no   Manufacturers Like to Be Different and How this A
 ffects the Technologist\n\nKeeping Your First Procedure from Becoming 
 Your Worst Procedure \n\no   Chest radiography Do’s and Don’ts\
 no   Chest Positioning 101\no   Improving Portable Chest Imaging\n
 \nFor more information visit https://community.radrounds.com/events/cu
 rrent-hot-topics-in-imaging-live-webinar-6
DTSTART:20180928T170000Z
DTEND:20180928T190000Z
CATEGORIES:live, webinar
LOCATION:Advanced Health Education Center
WEBSITE:https://store.aheconline.com/
URL:https://store.aheconline.com/
CONTACT:800-239-1361
ORGANIZER;CN="Larry Carney":https://community.radrounds.com/profile/La
 rryCarney
ATTACH;FMTTYPE="image/jpeg":
ATTENDEE;ROLE=REQ-PARTICIPANT;PARTSTAT=ACCEPTED;RSVP=TRUE;CN="Larry Ca
 rney":https://community.radrounds.com/profile/LarryCarney
END:VEVENT
END:VCALENDAR
