BEGIN:VCALENDAR
PRODID:NingEventWidget-v1
VERSION:2.0
METHOD:PUBLISH
BEGIN:VEVENT
UID:1791588:Event:183645
DTSTAMP:20260423T152631Z
SUMMARY:Current Hot Topics in Imaging (Live Webinar)
DESCRIPTION:Course Topics:\n1. Social media mistakes that can get you 
 in hot water\nÂ Â  a. statistics on social media\nÂ Â  b. legislation 
 and social media\nÂ Â  c. they got fired for what?\n2. Is new technolo
 gy doing-in your radiation safety strategies?\nÂ Â  a. new technology 
 mistakes technologists make\nÂ Â  b. understanding the bells and the w
 histles of digital\nÂ Â  c. manufacturers like to be different and how
  this affects the technologist\n3. Keeping your procedure from becomin
 g your worst procedure\nÂ Â  a. chest radiography do's and don'ts\nÂ Â
   b. chest positioning 101\nÂ Â  c. improving portable chest imaging\n
 \nFor more information visit https://community.radrounds.com/events/cu
 rrent-hot-topics-in-imaging-live-webinar-4
DTSTART:20180905T130000Z
DTEND:20180905T160000Z
CATEGORIES:live, webinar
LOCATION:Advanced Health Education Center
WEBSITE:https://store.aheconline.com/
URL:https://store.aheconline.com/
CONTACT:800-239-1361
ORGANIZER;CN="Larry Carney":https://community.radrounds.com/profile/La
 rryCarney
ATTACH;FMTTYPE="image/jpeg":
ATTENDEE;ROLE=REQ-PARTICIPANT;PARTSTAT=ACCEPTED;RSVP=TRUE;CN="Larry Ca
 rney":https://community.radrounds.com/profile/LarryCarney
END:VEVENT
END:VCALENDAR
