BEGIN:VCALENDAR
PRODID:NingEventWidget-v1
VERSION:2.0
METHOD:PUBLISH
BEGIN:VEVENT
UID:1791588:Event:172826
DTSTAMP:20260420T140101Z
SUMMARY:Cultural Dilemmas: Imaging a Diverse Patient Population (Live 
 Webinar)
DESCRIPTION:Course Topics\n\nWhat is Cultural Competency?\nRace v. Eth
 nicity\nCollective Programming\n8 Basic Types of Diversity in Patients
 \nWork Force Issues\nCommunication Skills\nImproving Multicultural Hea
 lth Care\nReligion Characteristics and Western Medicine\n\n\nFor more 
 information visit https://community.radrounds.com/events/cultural-dile
 mmas-imaging-a-diverse-patient-population-live
DTSTART:20171207T230000Z
DTEND:20171208T004500Z
CATEGORIES:live, webinar
LOCATION:Advanced Health Education Center
WEBSITE:https://store.aheconline.com/index.php?route=product/product&p
 ath=59&product_id=3059
URL:https://store.aheconline.com/index.php?route=product/product&path=
 59&product_id=3059
CONTACT:800-239-1361
ORGANIZER;CN="Larry Carney":https://community.radrounds.com/profile/La
 rryCarney
ATTACH;FMTTYPE="image/jpeg":
ATTENDEE;ROLE=REQ-PARTICIPANT;PARTSTAT=ACCEPTED;RSVP=TRUE;CN="Larry Ca
 rney":https://community.radrounds.com/profile/LarryCarney
END:VEVENT
END:VCALENDAR
