BEGIN:VCALENDAR
PRODID:NingEventWidget-v1
VERSION:2.0
METHOD:PUBLISH
BEGIN:VEVENT
UID:1791588:Event:115461
DTSTAMP:20260425T064315Z
SUMMARY:CT Training Course for Technologists
DESCRIPTION:CT Training Course for Technologists Monday, January 23, 2
 012 - Friday, January 27, 2012MTMI Training Center Waukesha, Wisconsin
  (WI), United StatesProvided by Medical Technology Management Institut
 e (MTMI)  CME Provider: Medical Technology Management Institute (MTMI)
  20900 Swenson DriveSuite 650Waukesha, Wisconsin (WI) 53186United Stat
 es\nToll Free: (800) 765-6864Phone: (262) 717-9797Fax: (262) 717-9171\
 n\nConference Center:MTMI Training Center 20900 Swenson DriveSuite 650
 Waukesha, Wisconsin (WI) 53186United States\nToll Free: (800) 765-6864
 Phone: (262) 717-9797Fax: (262) 717-9171\n Description:At the completi
 on of this course, participants will be able to:\n-Describe the basic 
 principles and concepts of computed tomography.\n-Incorporate scanning
  techniques learned to best demonstrate anatomy and pathology.\n-Descr
 ibe techniques in manipulating CT parameters to optimize image quality
 .\n-Recognize CT artifacts and describe techniques to minimize their o
 ccurrence.\n-Compare the advantages and disadvantages of various CT sc
 anner configurations.\nSelf Assessment Module (SAM): No\nInstructors:D
 oug Simpkin, PhDChristine Eckenrod, RT(R)(CT)(MR)Kerry Greene-Donnelly
 , RT(R)(M)(CT)(QM)Kristi Rayman, BS, RT(R)(M)(CT)(MR)Ed Wozniak, RT(R)
 (CT)(MR)\nSpecialty Audience:Radiology\n\nFor more information visit h
 ttps://community.radrounds.com/events/ct-training-course-for-technolog
 ists-5
DTSTART:20120123T050000Z
DTEND:20120128T045900Z
CATEGORIES:radiology
LOCATION:MTMI Training Center
WEBSITE:http://www.mtmi.net/
URL:http://www.mtmi.net/
CONTACT:(262) 717-9797
ORGANIZER:Medical Technology Management Institute (MTMI)
ATTACH;FMTTYPE="image/jpeg":
ATTENDEE;ROLE=REQ-PARTICIPANT;PARTSTAT=ACCEPTED;RSVP=TRUE;CN="radRound
 s Radiology Events":https://community.radrounds.com/profile/radRoundsR
 adiologyEvents
END:VEVENT
END:VCALENDAR
