BEGIN:VCALENDAR
PRODID:NingEventWidget-v1
VERSION:2.0
METHOD:PUBLISH
BEGIN:VEVENT
UID:1791588:Event:158430
DTSTAMP:20260423T010042Z
SUMMARY:CT Theory
DESCRIPTION:Computed Tomography Imaging is an integral part of high co
 mplexity imaging in Radiology. You can be ready to start an exciting n
 ew phase of your career through training for this modality. Understand
 ing the principles, theory and console skills is necessary for decisio
 n making, patient care, and independent judgment. You can learn the se
 ctional anatomy, computer operations, imaging protocols, and physics f
 rom the experts. Practical applications and clinical rotations are key
  ingredients to completing your training. You can choose the right com
 bination of events to match your educational needs. Week one of the tr
 aining covers principles and practice. Weeks two and three are clinica
 l rotations. Invest in your future and advance your career. This three
 -week modular course is designed to introduce the technologist to comp
 uterized tomography principles and practice. Classroom instruction wil
 l include history and development of CT, basic physics, instrumentatio
 n, technique and protocols, positioning, sectional anatomy, Venipunctu
 re, oral and IV contrast, safety considerations, and non-routine studi
 es. Clinical training will provide the fellowship technologist with 40
  hours per week of observation and hands-on instruction in local hospi
 tal settings. The clinical experience is designed to enhance and reinf
 orce the principles studied during the week of theory.\n Course Topics
  Week 1 - Theory (total 32 hours) 4 hours - History and Instrumentatio
 n 8 Hours - Basic Physics and Principles 8 Hours - Protocols and Contr
 ast Media 8 Hours - Sectional Anatomy, Image Correlation 4 hours - Non
 -routine Studies and Review CE Credit 32 Hours  Weeks 2, 3 - Clinical 
 Rotation Technologists enrolling in clinical rotations are required to
  complete the theory portion of the fellowship course prior to being a
 llowed to attend clinical rotations. 40 hours of clinical rotations (M
 onday-Friday) each week will give each fellowship technologist the opp
 ortunity to experience a wide array of exams, be tutored by experience
 d CT professionals who provide insights, advice, and help you get the 
 most out of your training. 80 hours total. Certificate of completion r
 ewarded will reflect clinical hours completed. ** No CE is awarded for
  clinical hours\nInstructor: Bettye Wilson, MAEd,RT(R)(CT), RDMS, FASR
 T\n\nFor more information visit https://community.radrounds.com/events
 /ct-theory-2
DTSTART:20151015T040000Z
DTEND:20151019T035900Z
CATEGORIES:seminar
LOCATION:AHEC
WEBSITE:https://store.aheconline.com/index.php?route=product/product&f
 ilter_name=ct%20theory&product_id=1564
URL:https://store.aheconline.com/index.php?route=product/product&filte
 r_name=ct%20theory&product_id=1564
CONTACT:713-772-0157
ORGANIZER;CN="Larry Carney":https://community.radrounds.com/profile/La
 rryCarney
ATTACH;FMTTYPE="image/jpeg":
ATTENDEE;ROLE=REQ-PARTICIPANT;PARTSTAT=ACCEPTED;RSVP=TRUE;CN="Larry Ca
 rney":https://community.radrounds.com/profile/LarryCarney
END:VEVENT
END:VCALENDAR
