BEGIN:VCALENDAR
PRODID:NingEventWidget-v1
VERSION:2.0
METHOD:PUBLISH
BEGIN:VEVENT
UID:1791588:Event:116520
DTSTAMP:20260422T222623Z
SUMMARY:CT Symposium
DESCRIPTION:CT Symposium Saturday, May 19, 2012 - Saturday, May 19, 20
 12Advanced Health Education Center Houston, Texas (TX), United StatesP
 rovided by Advanced Health Education Center  CME Provider: Advanced He
 alth Education Center 8502 Tybor DriveHouston, Texas (TX) 77074United 
 States\nToll Free: (800) 239-1361Phone: (713) 772-0157Fax: (713) 772-0
 155\n\nConference Center:Advanced Health Education Center 8502 Tybor D
 riveHouston, Texas (TX) 77074United States\nPhone: (800) 239-1361\nDes
 cription:Join us for a one day conference planned for the today’s pr
 acticing CT Technologist with topics that are relevant to the technolo
 gist’s daily practice. The cutting edge technology in CT reflects th
 e “new face” of skills needed by today’s CT Technologist. The fa
 culty will touch on the explosion of new technology in CT and reinforc
 e the fundamentals of how CT is used in diagnosis and treatment planni
 ng. Mark the date you don't want to miss\nSelf Assessment Module (SAM)
 : No\nInstructors:AHEC Staff-TBD\nSpecialty Audience:Radiology\n\nFor 
 more information visit https://community.radrounds.com/events/ct-sympo
 sium
DTSTART:20120519T040000Z
DTEND:20120520T035900Z
CATEGORIES:radiology
LOCATION:Advanced Health Education Center
WEBSITE:http://aheconline.com/
URL:http://aheconline.com/
CONTACT:(800) 239-1361
ORGANIZER:Advanced Health Education Center
ATTACH;FMTTYPE="image/jpeg":
ATTENDEE;ROLE=REQ-PARTICIPANT;PARTSTAT=ACCEPTED;RSVP=TRUE;CN="radRound
 s Radiology Events":https://community.radrounds.com/profile/radRoundsR
 adiologyEvents
END:VEVENT
END:VCALENDAR
