BEGIN:VCALENDAR
PRODID:NingEventWidget-v1
VERSION:2.0
METHOD:PUBLISH
BEGIN:VEVENT
UID:1791588:Event:123450
DTSTAMP:20260421T121417Z
SUMMARY:CT Registry Exam Review
DESCRIPTION:You can prepare for the advanced level CT examination thro
 ugh this specially designed workshop. A comprehensive review is accomp
 lished in this 16-hour course. You will learn the technical contents a
 s well as ARRT examination information to prepare for the registry. St
 udy Guides are included with the course. Students have used this class
  to successfully complete the exam. Follow-up from students taking the
  exam has told us the course is well designed to accomplish this goal.
  Don’t miss this opportunity to get ready for the CT exam.\n\nFor mo
 re information visit https://community.radrounds.com/events/ct-registr
 y-exam-review-29
DTSTART:20120908T120000Z
DTEND:20120909T201500Z
CATEGORIES:ce, course
LOCATION:Embassy Suites Raleigh-Durham/Research Triangle
WEBSITE:http://store.aheconline.com/DisplayDetail.aspx?pid=7339
URL:http://store.aheconline.com/DisplayDetail.aspx?pid=7339
CONTACT:800-239-1361
ORGANIZER:Advanced Health Education Center
ATTACH;FMTTYPE="image/jpeg":
ATTENDEE;ROLE=REQ-PARTICIPANT;PARTSTAT=ACCEPTED;RSVP=TRUE;CN="Larry Ca
 rney":https://community.radrounds.com/profile/LarryCarney
END:VEVENT
END:VCALENDAR
