BEGIN:VCALENDAR
PRODID:NingEventWidget-v1
VERSION:2.0
METHOD:PUBLISH
BEGIN:VEVENT
UID:1791588:Event:116440
DTSTAMP:20260423T032926Z
SUMMARY:CT Registry Exam Review
DESCRIPTION:CT Registry Exam Review Saturday, May 05, 2012 - Sunday, M
 ay 06, 2012Courtyard by Marriott Airport Nashville, Tennessee (TN), Un
 ited StatesProvided by Advanced Health Education Center  CME Provider:
  Advanced Health Education Center 8502 Tybor DriveHouston, Texas (TX) 
 77074United States\nToll Free: (800) 239-1361Phone: (713) 772-0157Fax:
  (713) 772-0155\n\nConference Center:Courtyard by Marriott Airport 250
 8 Elm Hill PikeNashville, Tennessee (TN) 37214United States\nPhone: (6
 15) 883-9500\nDescription:You can prepare for the advanced level CT ex
 amination through this specially designed workshop. A comprehensive re
 view is accomplished in this 16-hour course. You will learn the techni
 cal contents as well as ARRT examination information to prepare for th
 e registry. Study Guides are included with the course. Students have u
 sed this class to successfully complete the exam. Follow-up from stude
 nts taking the exam has told us the course is well designed to accompl
 ish this goal. Donâ€™t miss this opportunity to get ready for the CT e
 xam.\nCourse TopicsDay 1â€¢ Pretestâ€¢ Physics & Instrumentationâ€¢ Pa
 tient Careâ€¢ Imaging Procedures & Protocolsâ€¢ Contrast Media\nDay 2â
 €¢ Cross Sectional Anatomyâ€¢ Basic Pathologyâ€¢ Case Studiesâ€¢ Artif
 actsâ€¢ Post Test\nSelf Assessment Module (SAM): No\nInstructors:Bradl
 ey Holmer, AS, RT(R)(CT)\nSpecialty Audience:Radiology\n\nFor more inf
 ormation visit https://community.radrounds.com/events/ct-registry-exam
 -review-23
DTSTART:20120505T040000Z
DTEND:20120507T035900Z
CATEGORIES:radiology
LOCATION:Courtyard by Marriott Airport
WEBSITE:http://www.marriott.com/hotels/travel/bnaca-courtyard-nashvill
 e-airport/
URL:http://www.marriott.com/hotels/travel/bnaca-courtyard-nashville-ai
 rport/
CONTACT:(713) 772-0157
ORGANIZER:Advanced Health Education Center
ATTACH;FMTTYPE="image/jpeg":
ATTENDEE;ROLE=REQ-PARTICIPANT;PARTSTAT=ACCEPTED;RSVP=TRUE;CN="radRound
 s Radiology Events":https://community.radrounds.com/profile/radRoundsR
 adiologyEvents
END:VEVENT
END:VCALENDAR
