BEGIN:VCALENDAR
PRODID:NingEventWidget-v1
VERSION:2.0
METHOD:PUBLISH
BEGIN:VEVENT
UID:1791588:Event:169042
DTSTAMP:20260420T020340Z
SUMMARY:CT Prep & Exam Review (Simulcast)
DESCRIPTION:Course Description Coming Soon!\n\nFor more information vi
 sit https://community.radrounds.com/events/ct-prep-exam-review-simulca
 st
DTSTART:20170211T140000Z
DTEND:20170212T213000Z
CATEGORIES:simulcast
LOCATION:Advanced Health Education Center
WEBSITE:https://store.aheconline.com/index.php?route=product/product&p
 ath=59&product_id=2644
URL:https://store.aheconline.com/index.php?route=product/product&path=
 59&product_id=2644
CONTACT:1-800-239-1361
ORGANIZER;CN="Larry Carney":https://community.radrounds.com/profile/La
 rryCarney
ATTACH;FMTTYPE="image/jpeg":
ATTENDEE;ROLE=REQ-PARTICIPANT;PARTSTAT=ACCEPTED;RSVP=TRUE;CN="Larry Ca
 rney":https://community.radrounds.com/profile/LarryCarney
END:VEVENT
END:VCALENDAR
