BEGIN:VCALENDAR
PRODID:NingEventWidget-v1
VERSION:2.0
METHOD:PUBLISH
BEGIN:VEVENT
UID:1791588:Event:184851
DTSTAMP:20260421T044114Z
SUMMARY:CT Prep and Exam Review (Live Event)
DESCRIPTION:Course Topics\nDay 1\n\nCT Instrumentation (Including: Rad
 iation Physics and Informatics)\nCT Physics (Including: Reconstruction
 , Data Acquisition, Image Display, and Processing with Post-Processing
 )\nCT Image Quality (Including Artifacts)\n\nDay 2\n\nPatient Care (In
 cluding Radiation Safety)\nCT Procedures\nCT Anatomy and Pathology\n\n
 Structured Education Requirements\nAs of January 1, 2016, candidates f
 or post-primary certification and registration are required to documen
 t completion of structured education related to the content specificat
 ions.\nEducational activities must meet the following requirements:\n\
 nthe educational activities must be distributed among current ARRT con
 tent specifications for this discipline;\nthe total number of hours mu
 st equal at least 16; and\nat least one hour of structured education Â
  must be related to each of the following content areas:\n\n\nPatient 
 Care and Safety\nImaging Procedures\nPhysics and Instrumentation\n\nTh
 e verbage above is pulled directly from the ARRT's Structured Educatio
 n and Clinical Experience Requirements. The course includes the curren
 t ARRT content specifications for CT and includes at least one hour of
  structured education in patient care and safety, imaging procedures, 
 and physics and instrumentation.\n\nFor more information visit https:/
 /community.radrounds.com/events/ct-prep-and-exam-review-live-event-2
DTSTART:20190126T140000Z
DTEND:20190127T213000Z
CATEGORIES:live, event
LOCATION:Advanced Health Education Center
WEBSITE:http://store.aheconline.com
URL:http://store.aheconline.com
CONTACT:800-239-1361
ORGANIZER;CN="Larry Carney":https://community.radrounds.com/profile/La
 rryCarney
ATTACH;FMTTYPE="image/jpeg":
ATTENDEE;ROLE=REQ-PARTICIPANT;PARTSTAT=ACCEPTED;RSVP=TRUE;CN="Larry Ca
 rney":https://community.radrounds.com/profile/LarryCarney
END:VEVENT
END:VCALENDAR
